BEGIN:VCALENDAR
VERSION:2.0
PRODID:-//Кафедра САІТ - ECPv6.6.2//NONSGML v1.0//EN
CALSCALE:GREGORIAN
METHOD:PUBLISH
X-WR-CALNAME:Кафедра САІТ
X-ORIGINAL-URL:http://sait.vntu.edu.ua/en
X-WR-CALDESC:Events for Кафедра САІТ
REFRESH-INTERVAL;VALUE=DURATION:PT1H
X-Robots-Tag:noindex
X-PUBLISHED-TTL:PT1H
BEGIN:VTIMEZONE
TZID:Europe/Kiev
BEGIN:DAYLIGHT
TZOFFSETFROM:+0200
TZOFFSETTO:+0300
TZNAME:EEST
DTSTART:20200329T010000
END:DAYLIGHT
BEGIN:STANDARD
TZOFFSETFROM:+0300
TZOFFSETTO:+0200
TZNAME:EET
DTSTART:20201025T010000
END:STANDARD
END:VTIMEZONE
BEGIN:VEVENT
DTSTART;TZID=Europe/Kiev:20200929T000000
DTEND;TZID=Europe/Kiev:20200929T235959
DTSTAMP:20260425T062214
CREATED:20230228T110053Z
LAST-MODIFIED:20230228T110053Z
UID:13527-1601337600-1601423999@sait.vntu.edu.ua
SUMMARY:Виставка досягнень викладачів до святкування 60-річчя ВНТУ
DESCRIPTION:У ВНТУ розпочала роботу виставка досягнень викладачів до святкування 60-річчя нашого університету.Сьогодні її відвідав Президент України Володимир Зеленський.\nНа фото – доцент Ярослав Кулик розповідає про деякі з досягнень вчених Факультету комп’ютерних систем і автоматики (ФКСА)\, серед яких є такі:\n1. Комплекс інформаційно-аналітичних систем\, впроваджених в усіх областях України і за кордоном\, за кошти проєктів ООН\, ОБСЄ\, країн ЄС та України\, створений і впроваджений під керівництвом Мокіна В.Б. протягом 2003-2020 рр. співробітниками НДЛ ЕДЕМ кафедри системного аналізу та інформаційних технологій ФКСА (див. детальніше їх опис: http://mmss.vntu.edu.ua/index.php/ua/proekti-kafedri)\n2. Карта гідрографічного і водогосподарського районування України\, геоінформаційне забезпечення якої було розроблено на каф. САІТ професором Мокіном В.Б. та доцентом Крижановським Є.М. – врахована під час оновлення Водного Кодексу України Верховною радою України та була взята за основу під час виконання цього районування на вимогу Угоди про асоціацію з ЄС; у фінальній\, вже законодавчо затвердженій\, версії районування теж брали участь співробітники кафедри САІТ.\n3. Екологічний атлас басейну Південного Бугу (підготовлений виданий за кошти уряду Нідерландів) та Екологічний атлас басейну Дністра\, підготовлений та виданий за кошти проєктів ООН\, ОБСЄ та країн ЄС спільною молдо-українською робочою групою за участю експертів з ЄС – усі основні геоінформаційні матеріали цих атласів готували проф. Мокін В.Б. та доц. Крижановський Є.М. з кафедри САІТ.\n4. Інтелектуальна система обліку автомобілів\, розроблена на кафедрі АІІТ доцентом Маслієм Р.В. та аспірантом Кириленком О. і впроваджена у Ситуаційному центрі Вінницької міської ради.\n5. Прототип інтелектуальної системи управління автомобілем\, створений доцентами кафедри АІІТ Папіновим В.М. та Куликом Я.А. (на фото).
URL:http://sait.vntu.edu.ua/en/event/%d0%b2%d0%b8%d1%81%d1%82%d0%b0%d0%b2%d0%ba%d0%b0-%d0%b4%d0%be%d1%81%d1%8f%d0%b3%d0%bd%d0%b5%d0%bd%d1%8c-%d0%b2%d0%b8%d0%ba%d0%bb%d0%b0%d0%b4%d0%b0%d1%87%d1%96%d0%b2-%d0%b4%d0%be-%d1%81%d0%b2%d1%8f-2/
LOCATION:ВНТУ\, Вінниця\, 21000\, Ukraine
CATEGORIES:Виставка
ATTACH;FMTTYPE=image/jpeg:https://sait.vntu.edu.ua/wp-content/uploads/2023/02/120505070_3096528003906757_829110043452990289_n-TAOnEi.tmp_.jpg
END:VEVENT
END:VCALENDAR