BEGIN:VCALENDAR
VERSION:2.0
PRODID:-//Кафедра САІТ - ECPv6.6.2//NONSGML v1.0//EN
CALSCALE:GREGORIAN
METHOD:PUBLISH
X-WR-CALNAME:Кафедра САІТ
X-ORIGINAL-URL:http://sait.vntu.edu.ua/en
X-WR-CALDESC:Events for Кафедра САІТ
REFRESH-INTERVAL;VALUE=DURATION:PT1H
X-Robots-Tag:noindex
X-PUBLISHED-TTL:PT1H
BEGIN:VTIMEZONE
TZID:Europe/Kiev
BEGIN:DAYLIGHT
TZOFFSETFROM:+0200
TZOFFSETTO:+0300
TZNAME:EEST
DTSTART:20220327T010000
END:DAYLIGHT
BEGIN:STANDARD
TZOFFSETFROM:+0300
TZOFFSETTO:+0200
TZNAME:EET
DTSTART:20221030T010000
END:STANDARD
END:VTIMEZONE
BEGIN:VEVENT
DTSTART;TZID=Europe/Kiev:20220127T000000
DTEND;TZID=Europe/Kiev:20220127T235959
DTSTAMP:20260421T211446
CREATED:20230228T105852Z
LAST-MODIFIED:20230228T105852Z
UID:13497-1643241600-1643327999@sait.vntu.edu.ua
SUMMARY:Звіт з результатами аналізу та прогнозування ковіду в Україні
DESCRIPTION:27 січня 2022 року опубліковано черговий звіт з прогнозування поширення ковіду в Україні зав. каф. САІТ ФІІТА Мокіна В.Б. та аспіранта спеціальності 126 каф. САІТ ФІІТА Лосенка А.В. у складі міжвідомчої Робочої групи при НАН України (див. розділ по прогнозуванню з використанням моделі FB Prophet)\, який переслано в РНБО України та ін. Є оптимістичний та песимістичний прогнози\, прогноз по сусідніх країнах Європи та ін. https://www.nas.gov.ua/UA/Messages/Pages/View.aspx?MessageID=8633&fbclid=IwAR13F5n8fBrwn2sCxB-3rXJtFanZjIfBR8YvfpnloaHVus5BoyXcCVsj_8I
URL:http://sait.vntu.edu.ua/en/event/%d0%b7%d0%b2%d1%96%d1%82-%d0%b7-%d1%80%d0%b5%d0%b7%d1%83%d0%bb%d1%8c%d1%82%d0%b0%d1%82%d0%b0%d0%bc%d0%b8-%d0%b0%d0%bd%d0%b0%d0%bb%d1%96%d0%b7%d1%83-%d1%82%d0%b0-%d0%bf%d1%80%d0%be%d0%b3%d0%bd%d0%be/
CATEGORIES:Наука
END:VEVENT
END:VCALENDAR