BEGIN:VCALENDAR
VERSION:2.0
PRODID:-//Кафедра САІТ - ECPv6.6.2//NONSGML v1.0//EN
CALSCALE:GREGORIAN
METHOD:PUBLISH
X-ORIGINAL-URL:http://sait.vntu.edu.ua/en
X-WR-CALDESC:Events for Кафедра САІТ
REFRESH-INTERVAL;VALUE=DURATION:PT1H
X-Robots-Tag:noindex
X-PUBLISHED-TTL:PT1H
BEGIN:VTIMEZONE
TZID:Europe/Kiev
BEGIN:DAYLIGHT
TZOFFSETFROM:+0200
TZOFFSETTO:+0300
TZNAME:EEST
DTSTART:20220327T010000
END:DAYLIGHT
BEGIN:STANDARD
TZOFFSETFROM:+0300
TZOFFSETTO:+0200
TZNAME:EET
DTSTART:20221030T010000
END:STANDARD
END:VTIMEZONE
BEGIN:VEVENT
DTSTART;TZID=Europe/Kiev:20221116T000000
DTEND;TZID=Europe/Kiev:20221116T235959
DTSTAMP:20260420T231818
CREATED:20230228T105729Z
LAST-MODIFIED:20230623T121248Z
UID:13470-1668556800-1668643199@sait.vntu.edu.ua
SUMMARY:Зустріч з учнями Подільського ліцею
DESCRIPTION:16 листопада 2022 року Факультет ІІТА (від кафедри САІТ проф. Мокін В.Б.) провів цікаву зустріч з учнями Подільського ліцею. Зробили презентацію факультету\, розповіли про гуртки і наукові напрямки факультету.
URL:http://sait.vntu.edu.ua/en/event/%d0%b7%d1%83%d1%81%d1%82%d1%80%d1%96%d1%87-%d0%b7-%d1%83%d1%87%d0%bd%d1%8f%d0%bc%d0%b8-%d0%bf%d0%be%d0%b4%d1%96%d0%bb%d1%8c%d1%81%d1%8c%d0%ba%d0%be%d0%b3%d0%be-%d0%bb%d1%96%d1%86%d0%b5%d1%8e/
CATEGORIES:Зустріч з учнями
END:VEVENT
END:VCALENDAR