BEGIN:VCALENDAR
VERSION:2.0
PRODID:-//Кафедра САІТ - ECPv6.6.2//NONSGML v1.0//EN
CALSCALE:GREGORIAN
METHOD:PUBLISH
X-WR-CALNAME:Кафедра САІТ
X-ORIGINAL-URL:http://sait.vntu.edu.ua/en
X-WR-CALDESC:Events for Кафедра САІТ
REFRESH-INTERVAL;VALUE=DURATION:PT1H
X-Robots-Tag:noindex
X-PUBLISHED-TTL:PT1H
BEGIN:VTIMEZONE
TZID:Europe/Kiev
BEGIN:DAYLIGHT
TZOFFSETFROM:+0200
TZOFFSETTO:+0300
TZNAME:EEST
DTSTART:20230326T010000
END:DAYLIGHT
BEGIN:STANDARD
TZOFFSETFROM:+0300
TZOFFSETTO:+0200
TZNAME:EET
DTSTART:20231029T010000
END:STANDARD
END:VTIMEZONE
BEGIN:VEVENT
DTSTART;TZID=Europe/Kiev:20230315T150000
DTEND;TZID=Europe/Kiev:20230315T160000
DTSTAMP:20260420T153411
CREATED:20230312T104648Z
LAST-MODIFIED:20230322T000333Z
UID:14839-1678892400-1678896000@sait.vntu.edu.ua
SUMMARY:EcoCity: презентація Кабінету дослідника атмосферного повітря
DESCRIPTION:EcoCity: презентація Кабінету дослідника атмосферного повітря \n\n\n\n\n\n\n\n\n\nhttps://www.facebook.com/events/597520032238321/597520045571653
URL:http://sait.vntu.edu.ua/en/event/14839/
END:VEVENT
END:VCALENDAR