BEGIN:VCALENDAR
VERSION:2.0
PRODID:-//Кафедра САІТ - ECPv6.6.2//NONSGML v1.0//EN
CALSCALE:GREGORIAN
METHOD:PUBLISH
X-WR-CALNAME:Кафедра САІТ
X-ORIGINAL-URL:http://sait.vntu.edu.ua/en
X-WR-CALDESC:Events for Кафедра САІТ
REFRESH-INTERVAL;VALUE=DURATION:PT1H
X-Robots-Tag:noindex
X-PUBLISHED-TTL:PT1H
BEGIN:VTIMEZONE
TZID:Europe/Kiev
BEGIN:DAYLIGHT
TZOFFSETFROM:+0200
TZOFFSETTO:+0300
TZNAME:EEST
DTSTART:20230326T010000
END:DAYLIGHT
BEGIN:STANDARD
TZOFFSETFROM:+0300
TZOFFSETTO:+0200
TZNAME:EET
DTSTART:20231029T010000
END:STANDARD
END:VTIMEZONE
BEGIN:VEVENT
DTSTART;TZID=Europe/Kiev:20230412T111500
DTEND;TZID=Europe/Kiev:20230412T140000
DTSTAMP:20260420T152927
CREATED:20230410T142141Z
LAST-MODIFIED:20230410T142259Z
UID:17937-1681298100-1681308000@sait.vntu.edu.ua
SUMMARY:Цикл відкритих лекцій провідних ІТ-фахівців
DESCRIPTION:Запрошуємо на першу частину Циклу відкритих лекцій\, приурочену до Дня Факультету інтелектуальних інформаційних технологій та автоматизації ВНТУ 12 квітня 2023 року! \n\n\n\nПосилання буде поширено через старост груп здобувачів вищої освіти бакалаврату\, магістратури та аспірантури спеціальностей ФІІТА орієнтовно за 15 хв. до початку \n\n\n\nКількість місць обмежена 250 осіб. Останні 10 місць резервуються для лекторів та викладачів. \n\n\n\nДля студентів старших курсів також будуть цікавими можливості проходження виробничої практики\, а для випускних курсів – працевлаштування. В цих організаціях вже працює чимало випускників нашого факультету різних років.
URL:http://sait.vntu.edu.ua/en/event/tsykl-vidkrytykh-lektsii-providnykh-it-fa/
END:VEVENT
END:VCALENDAR