BEGIN:VCALENDAR
VERSION:2.0
PRODID:-//Кафедра САІТ - ECPv6.6.2//NONSGML v1.0//EN
CALSCALE:GREGORIAN
METHOD:PUBLISH
X-ORIGINAL-URL:http://sait.vntu.edu.ua/uk
X-WR-CALDESC:Події для Кафедра САІТ
REFRESH-INTERVAL;VALUE=DURATION:PT1H
X-Robots-Tag:noindex
X-PUBLISHED-TTL:PT1H
BEGIN:VTIMEZONE
TZID:Europe/Kiev
BEGIN:DAYLIGHT
TZOFFSETFROM:+0200
TZOFFSETTO:+0300
TZNAME:EEST
DTSTART:20220327T010000
END:DAYLIGHT
BEGIN:STANDARD
TZOFFSETFROM:+0300
TZOFFSETTO:+0200
TZNAME:EET
DTSTART:20221030T010000
END:STANDARD
END:VTIMEZONE
BEGIN:VEVENT
DTSTART;TZID=Europe/Kiev:20220211T000000
DTEND;TZID=Europe/Kiev:20220211T235959
DTSTAMP:20260422T001402
CREATED:20230228T105843Z
LAST-MODIFIED:20230228T105843Z
UID:13495-1644537600-1644623999@sait.vntu.edu.ua
SUMMARY:Робоча зустріч з керівництвом Вінницької лабораторії екто- та ендопротезування та Київської компанії "3D METAL TECH"
DESCRIPTION:11 лютого 2022 року пройшла робоча зустріч професорів\, завідувачів кафедрами САІТ ФІІТА Віталій Мокін та ОМТМІГ ФМТ Олександр Грушко Вінницького національного технічного університету з керівником вінницької лабораторії екто- та ендопротезування к.м.н.\, доцентом Вінницького національного медичного університету ім. М.І. Пірогова Олексієм Ліхіцьким та к.т.н.\, директором компанії «3D METAL TECH» Yaroslav Holovenko (м. Київ\, на зустрічі був он-лайн) у межах підписаного нещодавно тристороннього договору про співпрацю. Метою зустрічі було узгодження оргпитань проведення тренінгу із застосування сучасних інформаційних технологій\, 3D-моделювання для задач протезування з використанням індивідуалізованих медичних виробів методом металевого 3D друку із титанового сплаву\, виготовлених відповідно до системи управління якістю згідно міжнародного стандарту ISO 13485. Тренінг запланований оффлайн у лютому цього року на базі Лабораторного центру ВНТУ «BIOART».Головним доповідачем буде директор компанії «3D METAL TECH» Ярослав Головенько\, який розповість про більше 100 успішно виготовлених за їх технологією у 2021 р. ендопротезів\, індивідуалізованих під анатомічні особливості пацієнта. Він спеціально приїде з Києва\, щоб поділитись досвідом і відповісти на усі питання учасників тренінгу. Керівник вінницької лабораторії екто- та ендопротезування Олексій Ліхіцький поділиться своїм досвідом та розповість про формат подальшої співпраці. Також\, плануються доповіді провідних вчених і викладачів ВНТУ у сфері біомедичної інженерії\, опору матеріалів\, інженерної графіки\, системного аналізу та інформаційних технології.\nПланується такі тренінги проводити регулярно щомісяця. На тренінги запрошуватимуться хірурги та інші медики\, які готові проводити операції з використанням протезів з медичного титану за європейськими стандартами з використанням сучасних інформаційних технологій. Також\, будуть запрошуватись студенти й аспіранти ВНТУ та ВНМУ ім. М.І. Пірогова для використання цих технологій у дипломному проєктуванні та під час майбутнього працевлаштування. Завідувач кафедри САІТ Віталій Мокін забезпечуватиме інформаційну підтримку цих тренінгів на сайті ВНТУ.\nУ межах зустрічі керівники вінницької лабораторії екто- та ендопротезування продемонстрували своє обладнання та виробничі потужності. Разом із професорами обговорили деталі подальшої співпраці\, передусім\, за участі студентів та аспірантів ВНТУ та ВНМУ ім. М.І. Пірогова різних спеціальностей
URL:http://sait.vntu.edu.ua/uk/event/%d1%80%d0%be%d0%b1%d0%be%d1%87%d0%b0-%d0%b7%d1%83%d1%81%d1%82%d1%80%d1%96%d1%87-%d0%b7-%d0%ba%d0%b5%d1%80%d1%96%d0%b2%d0%bd%d0%b8%d1%86%d1%82%d0%b2%d0%be%d0%bc-%d0%b2%d1%96%d0%bd%d0%bd%d0%b8%d1%86/
CATEGORIES:Нарада
END:VEVENT
END:VCALENDAR