BEGIN:VCALENDAR
VERSION:2.0
PRODID:-//Кафедра САІТ - ECPv6.6.2//NONSGML v1.0//EN
CALSCALE:GREGORIAN
METHOD:PUBLISH
X-WR-CALNAME:Кафедра САІТ
X-ORIGINAL-URL:http://sait.vntu.edu.ua/uk
X-WR-CALDESC:Події для Кафедра САІТ
REFRESH-INTERVAL;VALUE=DURATION:PT1H
X-Robots-Tag:noindex
X-PUBLISHED-TTL:PT1H
BEGIN:VTIMEZONE
TZID:Europe/Kiev
BEGIN:DAYLIGHT
TZOFFSETFROM:+0200
TZOFFSETTO:+0300
TZNAME:EEST
DTSTART:20220327T010000
END:DAYLIGHT
BEGIN:STANDARD
TZOFFSETFROM:+0300
TZOFFSETTO:+0200
TZNAME:EET
DTSTART:20221030T010000
END:STANDARD
END:VTIMEZONE
BEGIN:VEVENT
DTSTART;TZID=Europe/Kiev:20220830T100000
DTEND;TZID=Europe/Kiev:20220830T120000
DTSTAMP:20260421T084858
CREATED:20230228T105755Z
LAST-MODIFIED:20230228T105755Z
UID:13479-1661853600-1661860800@sait.vntu.edu.ua
SUMMARY:Засідання підкомісії зі спеціальності 124 НМК МОНУ
DESCRIPTION:30 серпня 2022 року відбулося засідання підкомісії з системного аналізу Науково-методичної комісії з ІТ Науково-методичної ради МОН України. На час воєнного стану продовжується робота складу комісій\, обраного ще у 2019 р.Ми обговорили та оновили проєкт стандарту вищої освіти рівня «доктор філософії» зі спеціальності 124 Системний аналіз. Врахували зауваження експертів\, останні досягнення сучасних інформаційних технологій\, професійний стандарт на групу професій «Викладачі закладів вищої освіти»\, вже затверджений розроблений нами же стандарт вищої освіти рівня «магістр» з цієї ж спеціальності та ін.\nЗасідання пройшло в онлайн-форматі. Проект затвердили одноголосно.
URL:http://sait.vntu.edu.ua/uk/event/%d0%b7%d0%b0%d1%81%d1%96%d0%b4%d0%b0%d0%bd%d0%bd%d1%8f-%d0%bf%d1%96%d0%b4%d0%ba%d0%be%d0%bc%d1%96%d1%81%d1%96%d1%97-%d0%b7%d1%96-%d1%81%d0%bf%d0%b5%d1%86%d1%96%d0%b0%d0%bb%d1%8c%d0%bd%d0%be%d1%81/
LOCATION:Google Meet
CATEGORIES:Нарада
END:VEVENT
BEGIN:VEVENT
DTSTART;TZID=Europe/Kiev:20220920T141500
DTEND;TZID=Europe/Kiev:20220920T160000
DTSTAMP:20260421T084858
CREATED:20230228T105751Z
LAST-MODIFIED:20230228T105751Z
UID:13477-1663683300-1663689600@sait.vntu.edu.ua
SUMMARY:Звітування аспірантів на кафедрі САІТ
DESCRIPTION:20 вересня 2022 року на кафедрі системного аналізу та інформаційних технологій ФІІТА ВНТУ у Google Meet пройшло звітування аспірантів освітньо-наукових програм спеціальностей 124 і 126. Кожен із аспірантів звітував за проведену роботу: демонструвалась презентація\, була дана характеристика опублікованих статей у фахових виданнях категорії Б за своєю спеціальністю та тез міжнародних конференцій. Також кожен аспірант охарактеризував свої інноваційні здобутки Усі звіти були затверджені одностайно.
URL:http://sait.vntu.edu.ua/uk/event/%d0%b7%d0%b2%d1%96%d1%82%d1%83%d0%b2%d0%b0%d0%bd%d0%bd%d1%8f-%d0%b0%d1%81%d0%bf%d1%96%d1%80%d0%b0%d0%bd%d1%82%d1%96%d0%b2-%d0%bd%d0%b0-%d0%ba%d0%b0%d1%84%d0%b5%d0%b4%d1%80%d1%96-%d1%81%d0%b0%d1%96-3/
LOCATION:САІТ\, Вінниця\, Україна
CATEGORIES:Нарада
END:VEVENT
BEGIN:VEVENT
DTSTART;TZID=Europe/Kiev:20221207T110000
DTEND;TZID=Europe/Kiev:20221207T130000
DTSTAMP:20260421T084858
CREATED:20230228T105721Z
LAST-MODIFIED:20230623T121242Z
UID:13467-1670410800-1670418000@sait.vntu.edu.ua
SUMMARY:XII засідання Басейнової ради Південного Бугу
DESCRIPTION:7 грудня2022 року о 11.00 у режимі он-лайн відбулося XII засідання басейнової ради Південного Бугу\, де\, серед інших питань\, була надана інформація про веб-систему для членів басейнової ради “WISESTR-SBB”\, яка містить важливу інформацію для розроблення і верифікації Плану управління річковим басейном Південного Бугу\, а також – про наукові розробки вчених кафедри САІТ ФІІТА ВНТУ щодо інтелектуальних NLP-технологій для автоматизованого наповнення і верифікації даних цієї веб-системи.Програма засідання та посилання для приєднання є у ФБ-групі “Діяльність Басейнової ради Південного Бугу”.
URL:http://sait.vntu.edu.ua/uk/event/xii-%d0%b7%d0%b0%d1%81%d1%96%d0%b4%d0%b0%d0%bd%d0%bd%d1%8f-%d0%b1%d0%b0%d1%81%d0%b5%d0%b9%d0%bd%d0%be%d0%b2%d0%be%d1%97-%d1%80%d0%b0%d0%b4%d0%b8-%d0%bf%d1%96%d0%b2%d0%b4%d0%b5%d0%bd%d0%bd%d0%be%d0%b3/
LOCATION:Google Meet
CATEGORIES:Нарада
END:VEVENT
BEGIN:VEVENT
DTSTART;TZID=Europe/Kiev:20221214T000000
DTEND;TZID=Europe/Kiev:20221214T235959
DTSTAMP:20260421T084858
CREATED:20230228T105719Z
LAST-MODIFIED:20230623T121236Z
UID:13466-1670976000-1671062399@sait.vntu.edu.ua
SUMMARY:Робота секції з питань водних ресурсів Науково-технічної ради Держводагентства
DESCRIPTION:14 грудня 2022 року завідувач кафедри САІТ\, проф. Мокін В.Б. взяв участь у роботі секції з питань водних ресурсів Науково-технічної ради Держводагентства під головуванням заступника Голови Держводагентства\, доктора технічних наук Ігоря Гопчака. На засіданні були розглянуті питання агрегації масивів поверхневих вод у рамках впровадження державного моніторингу вод та представлено Методичні рекомендації з відновлення гідроморфологічних характеристик водотоків – методики\, важливі для розроблення Планів управління річковими басейнами України відповідно до вимог Водної рамкової директиви ЄС.Більш докладно про результати роботи засідання див. у пості Держводагентства https://www.facebook.com/davr.gov.ua/posts/pfbid02WNXNeALcjtTJssfGYFjDgiQnTxcaZxHSxiqL7xFd6KzMirBnLQ9oTEmJYJviMeBbl
URL:http://sait.vntu.edu.ua/uk/event/%d1%80%d0%be%d0%b1%d0%be%d1%82%d0%b0-%d1%81%d0%b5%d0%ba%d1%86%d1%96%d1%97-%d0%b7-%d0%bf%d0%b8%d1%82%d0%b0%d0%bd%d1%8c-%d0%b2%d0%be%d0%b4%d0%bd%d0%b8%d1%85-%d1%80%d0%b5%d1%81%d1%83%d1%80%d1%81%d1%96/
LOCATION:Google Meet
CATEGORIES:Нарада
END:VEVENT
END:VCALENDAR