BEGIN:VCALENDAR
VERSION:2.0
PRODID:-//Кафедра САІТ - ECPv6.6.2//NONSGML v1.0//EN
CALSCALE:GREGORIAN
METHOD:PUBLISH
X-WR-CALNAME:Кафедра САІТ
X-ORIGINAL-URL:http://sait.vntu.edu.ua/uk
X-WR-CALDESC:Події для Кафедра САІТ
REFRESH-INTERVAL;VALUE=DURATION:PT1H
X-Robots-Tag:noindex
X-PUBLISHED-TTL:PT1H
BEGIN:VTIMEZONE
TZID:Europe/Kiev
BEGIN:DAYLIGHT
TZOFFSETFROM:+0200
TZOFFSETTO:+0300
TZNAME:EEST
DTSTART:20210328T010000
END:DAYLIGHT
BEGIN:STANDARD
TZOFFSETFROM:+0300
TZOFFSETTO:+0200
TZNAME:EET
DTSTART:20211031T010000
END:STANDARD
END:VTIMEZONE
BEGIN:VEVENT
DTSTART;TZID=Europe/Kiev:20211202T110000
DTEND;TZID=Europe/Kiev:20211202T130000
DTSTAMP:20260421T205730
CREATED:20230228T105926Z
LAST-MODIFIED:20230228T105926Z
UID:13511-1638442800-1638450000@sait.vntu.edu.ua
SUMMARY:10-те засідання басейнової ради Південного Бугу.
DESCRIPTION:2 грудня 2021 року відбулось 10-те засідання басейнової ради Південного Бугу. Було багато цікавих доповідей про сучасні рішення Інтернету речей та систем вимірювання до автоматичного моніторингу вод\, про допомогу освіти і науки\, у т.ч. студентів та аспірантів кафедри САІТ ВНТУ\, до розв’язання актуальних проблем у басейні з використанням технологій штучного інтелекту\, та багато іншого.
URL:http://sait.vntu.edu.ua/uk/event/10-%d1%82%d0%b5-%d0%b7%d0%b0%d1%81%d1%96%d0%b4%d0%b0%d0%bd%d0%bd%d1%8f-%d0%b1%d0%b0%d1%81%d0%b5%d0%b9%d0%bd%d0%be%d0%b2%d0%be%d1%97-%d1%80%d0%b0%d0%b4%d0%b8-%d0%bf%d1%96%d0%b2%d0%b4%d0%b5%d0%bd%d0%bd/
LOCATION:Google Meet
CATEGORIES:Нарада
END:VEVENT
END:VCALENDAR