BEGIN:VCALENDAR
VERSION:2.0
PRODID:-//Кафедра САІТ - ECPv6.6.2//NONSGML v1.0//EN
CALSCALE:GREGORIAN
METHOD:PUBLISH
X-WR-CALNAME:Кафедра САІТ
X-ORIGINAL-URL:http://sait.vntu.edu.ua/uk
X-WR-CALDESC:Події для Кафедра САІТ
REFRESH-INTERVAL;VALUE=DURATION:PT1H
X-Robots-Tag:noindex
X-PUBLISHED-TTL:PT1H
BEGIN:VTIMEZONE
TZID:Europe/Kiev
BEGIN:DAYLIGHT
TZOFFSETFROM:+0200
TZOFFSETTO:+0300
TZNAME:EEST
DTSTART:20220327T010000
END:DAYLIGHT
BEGIN:STANDARD
TZOFFSETFROM:+0300
TZOFFSETTO:+0200
TZNAME:EET
DTSTART:20221030T010000
END:STANDARD
END:VTIMEZONE
BEGIN:VEVENT
DTSTART;TZID=Europe/Kiev:20221001T110000
DTEND;TZID=Europe/Kiev:20221001T130000
DTSTAMP:20260421T103111
CREATED:20230228T105744Z
LAST-MODIFIED:20230228T105744Z
UID:13475-1664622000-1664629200@sait.vntu.edu.ua
SUMMARY:Зустріч з магістрами ФІІТА
DESCRIPTION:1 жовтня 2022 року об 11.00 за адресою Хм.шосе\, 95\, 5 корпус відбудеться зустріч студентів 1 курсу\, які щойно поступили в магістратуру спеціальностей ФІІТА з представниками факультету.
URL:http://sait.vntu.edu.ua/uk/event/%d0%b7%d1%83%d1%81%d1%82%d1%80%d1%96%d1%87-%d0%b7-%d0%bc%d0%b0%d0%b3%d1%96%d1%81%d1%82%d1%80%d0%b0%d0%bc%d0%b8-%d1%84%d1%96%d1%96%d1%82%d0%b0/
LOCATION:ФІІТА\, Вінниця\, Україна
CATEGORIES:Прийом
END:VEVENT
END:VCALENDAR