BEGIN:VCALENDAR
VERSION:2.0
PRODID:-//Кафедра САІТ - ECPv6.6.2//NONSGML v1.0//EN
CALSCALE:GREGORIAN
METHOD:PUBLISH
X-ORIGINAL-URL:http://sait.vntu.edu.ua/uk
X-WR-CALDESC:Події для Кафедра САІТ
REFRESH-INTERVAL;VALUE=DURATION:PT1H
X-Robots-Tag:noindex
X-PUBLISHED-TTL:PT1H
BEGIN:VTIMEZONE
TZID:Europe/Kiev
BEGIN:DAYLIGHT
TZOFFSETFROM:+0200
TZOFFSETTO:+0300
TZNAME:EEST
DTSTART:20220327T010000
END:DAYLIGHT
BEGIN:STANDARD
TZOFFSETFROM:+0300
TZOFFSETTO:+0200
TZNAME:EET
DTSTART:20221030T010000
END:STANDARD
END:VTIMEZONE
BEGIN:VEVENT
DTSTART;TZID=Europe/Kiev:20221003T000000
DTEND;TZID=Europe/Kiev:20221014T235959
DTSTAMP:20260421T084718
CREATED:20230228T105741Z
LAST-MODIFIED:20230228T105741Z
UID:13474-1664755200-1665791999@sait.vntu.edu.ua
SUMMARY:Донабір на спеціальності кафедри САІТ ВНТУ
DESCRIPTION:3 жовтня 2022 року стартував донабір на найкращі бакалаврські освітні програми ІТ-спеціальностей кафедри системного аналізу ті інформаційних технологій факультету інтелектуальних інформаційних технологій та автоматизації ВНТУ (https://mmss.vntu.edu.ua/index.php/ua/):- 10 додаткових місць на ОПП “Системний аналіз” спеціальності 124 Системний аналіз – для тих\, хто хоче стати ІТ-менеджером\, датасайнтистом\, системним аналітиком\, бізнес-аналітиком\, Python developer тощо;\n– 5 додаткових місць на ОПП “Прикладні інформаційні технології” спеціальності 126 Інформаційні системи та технології – для тих\, хто хоче навчитись вибирати\, розвивати та застосовувати сучасні інформаційні технології\, мови програмування\, технології штучного інтелекту\, робототехніку\, програмування мобільних пристроїв і смарт-технології\, Інтернет речей\, веб-технології\, ГІС-технології тощо.\nУсі кваліфікаційні роботи виконуються на РЕАЛЬНИХ даних. Викладачі мають великий досвід виконання робіт на замовлення\, впроваджених в усіх областях України та за кордоном\, працюють провідними фахівцями у відомих ІТ-компаніях\, у т.ч. за кордоном. Студенти мають можливість брати участь у виконання цих проєктів за оплату. Зараз кафедра виконує проект зі створення інтелектуального ІоТ-рішення для оптимізації зернових елеваторів за фінансування ЄС.\nЗапрошуємо до вступу! Термін подання заяв з 3 по 14 жовтня 2022 року. Для вступу достатньо подати мотиваційний лист (на сайті ВНТУ є детальні рекомендації як його слід писати – варто їх старанно дотриматись).
URL:http://sait.vntu.edu.ua/uk/event/%d0%b4%d0%be%d0%bd%d0%b0%d0%b1%d1%96%d1%80-%d0%bd%d0%b0-%d1%81%d0%bf%d0%b5%d1%86%d1%96%d0%b0%d0%bb%d1%8c%d0%bd%d0%be%d1%81%d1%82%d1%96-%d0%ba%d0%b0%d1%84%d0%b5%d0%b4%d1%80%d0%b8-%d1%81%d0%b0%d1%96/
LOCATION:ВНТУ\, Вінниця\, 21000\, Ukraine
CATEGORIES:Прийом
END:VEVENT
END:VCALENDAR