BEGIN:VCALENDAR
VERSION:2.0
PRODID:-//Кафедра САІТ - ECPv6.6.2//NONSGML v1.0//EN
CALSCALE:GREGORIAN
METHOD:PUBLISH
X-ORIGINAL-URL:http://sait.vntu.edu.ua/uk
X-WR-CALDESC:Події для Кафедра САІТ
REFRESH-INTERVAL;VALUE=DURATION:PT1H
X-Robots-Tag:noindex
X-PUBLISHED-TTL:PT1H
BEGIN:VTIMEZONE
TZID:Europe/Kiev
BEGIN:DAYLIGHT
TZOFFSETFROM:+0200
TZOFFSETTO:+0300
TZNAME:EEST
DTSTART:20230326T010000
END:DAYLIGHT
BEGIN:STANDARD
TZOFFSETFROM:+0300
TZOFFSETTO:+0200
TZNAME:EET
DTSTART:20231029T010000
END:STANDARD
END:VTIMEZONE
BEGIN:VEVENT
DTSTART;TZID=Europe/Kiev:20230205T000000
DTEND;TZID=Europe/Kiev:20230205T235959
DTSTAMP:20260421T070902
CREATED:20230228T105706Z
LAST-MODIFIED:20230623T121227Z
UID:13461-1675555200-1675641599@sait.vntu.edu.ua
SUMMARY:ВНТУ у рейтингу Webometrics Transparent Ranking-2023!
DESCRIPTION:ВНТУ в рейтингу Webometrics Transparent Ranking-2023!Наприкінці січня опубліковано чергову редакцію рейтингу університетів світу Transparent Ranking: Top Universities by Citations in Top Google Scholar Profiles.\nРейтинг прозорості відображає прихильність університетів до принципів відкритої науки й враховує цитованість перших 310 профілів авторів у Google Scholar за мінусом кращих 30.\nПерше місце серед ЗВО Вінниччини у рейтингу посів Вінницький національний технічний університет. Крім того\, ВНТУ знову вийшов у лідери серед українських університетів\, зайнявши 9-ту позицію.\nРейтинг Transparent Ranking: Top Universities by Google Scholar Citations є компонентою авторитетного міжнародного рейтингу університетів Webometrics Ranking of World Universities.\nДля підвищення рівня цитованості у Google Scholar Citations необхідно підтримувати профілі в актуальному стані\, наповнювати Електронний архів\, підтримувати публікаційну активність
URL:http://sait.vntu.edu.ua/uk/event/%d0%b2%d0%bd%d1%82%d1%83-%d1%83-%d1%80%d0%b5%d0%b9%d1%82%d0%b8%d0%bd%d0%b3%d1%83-webometrics-transparent-ranking-2023/
CATEGORIES:Рейтинг
END:VEVENT
END:VCALENDAR