BEGIN:VCALENDAR
VERSION:2.0
PRODID:-//Кафедра САІТ - ECPv6.6.2//NONSGML v1.0//EN
CALSCALE:GREGORIAN
METHOD:PUBLISH
X-WR-CALNAME:Кафедра САІТ
X-ORIGINAL-URL:http://sait.vntu.edu.ua/uk
X-WR-CALDESC:Події для Кафедра САІТ
REFRESH-INTERVAL;VALUE=DURATION:PT1H
X-Robots-Tag:noindex
X-PUBLISHED-TTL:PT1H
BEGIN:VTIMEZONE
TZID:Europe/Kiev
BEGIN:DAYLIGHT
TZOFFSETFROM:+0200
TZOFFSETTO:+0300
TZNAME:EEST
DTSTART:20210328T010000
END:DAYLIGHT
BEGIN:STANDARD
TZOFFSETFROM:+0300
TZOFFSETTO:+0200
TZNAME:EET
DTSTART:20211031T010000
END:STANDARD
END:VTIMEZONE
BEGIN:VEVENT
DTSTART;TZID=Europe/Kiev:20210420T101500
DTEND;TZID=Europe/Kiev:20210420T120000
DTSTAMP:20260422T101032
CREATED:20230228T105912Z
LAST-MODIFIED:20230228T105912Z
UID:13505-1618913700-1618920000@sait.vntu.edu.ua
SUMMARY:Відкрита лекція у Google Meet  провідного фахівця у сфері штучного інтелекту\, NLP\, Data Science та системного аналізу\, Team Leader компанії "Спільна справа" PhD Володимира Сторчака
DESCRIPTION:20 квітня 2021 року о 10.15-12.00 у Google Meet на кафедрі системного аналізу та інформаційних технології (САІТ) факультету комп’ютерних систем і автоматики ВНТУ пройшла лекція на тему «Інформаційні технології. Штучний інтелект. NLP. Data Science. Системний аналіз» провідного фахівця у сфері штучного інтелекту\, NLP\, Data Science та системного аналізу\, Team Leader компанії “Спільна справа” PhD Володимира Сторчака. Володимир Сторчак працює вже більше 10 років у компанії «Спільна справа»\, куди пішов одразу після захисту дисертації зі спеціальності «Інформаційні технології» після закінчення аспірантури на кафедрі САІТ.У лекції взяли участь студенти бакалаврату 1-3 курсів спеціальності 124 (освітня програма (ОП) “Системний аналіз”)\, 1-3 курсів ОП “Прикладні інформаційні технології”\, 3 курсу ОП “Інтелектуальні інформаційні системи” спеціальності 126\,  магістранти ОП “Інформаційні технології аналізу даних та зображень” спеціальності 126 кафедр САІТ та АІІТ\, аспіранти і викладачі кафедр САІТ та АІІТ. Крім того\, завітав директор Департаменту інформаційних технологій Вінницької міськради Володимир Романенко\, ймовірно\, щоб оцінити формат такої зустрічі (він\, також\, серед інших провідних ІТ-фахівців\, отримав запрошення провести подібну лекцію в майбутньому). Основними слухачами були групи 1\,2ІСТ-18б\, оскільки для них це була лекція за розкладом з дисципліни «Системний аналіз».\nВолодимир Сторчак цікаво розповів про проєкти\, які виконувались під його керівництвом у сфері штучного інтелекту\, передусім з NLP (Natural Language Processing)\, звичайно\, без деталей\, які складають комерційну таємницю. Розповів з цікавими прикладами про можливе застосування сучасних технологій NLP\, у т.ч. NER (Name Entity Recognition).\nВідповів на багато запитань\, які йому були задані: про що питають на співбесіді\, чи мають цінність сертифікати онлайн курсів і яких\, чи враховуються досягнення на платформі Kaggle\, які мови\, фреймворки варто вчити тощо? Дехто з викладачів кафедри САІТ розповідав як саме викладаються певні згадані лектором теми в курсах баз даних та ін. і уточняв чи такий обсяг достатній для опанування відповідних знань і навичок для роботи в таких проектах. Володимир розгорнуто відповідав на усі запитання одразу з прикладами з життя.\nДискусія була активною. Реально лекція захопила ще й частину перерви після 12.00\, тому домовились\, що з часом ми зустрінемось ще. Усі подякували лектору. Він залишив свої контакти учасникам. Але контактувати з ним можна і через мене (я був науковим керівником його дисертації\, а до своїх госпдоговірних науково-дослідних проектів почав його залучати за оплату вже з 2-го курсу бакалаврату ще десь у 2003 р. – гарний приклад для студентів). Крім того\, ми домовились\, що я ще поспілкуюсь з керівництвом компанії для уточнення конкретної тематики і форм співпраці наших студентів\, у т.ч. з Володимиром Сторчаком.
URL:http://sait.vntu.edu.ua/uk/event/%d0%b2%d1%96%d0%b4%d0%ba%d1%80%d0%b8%d1%82%d0%b0-%d0%bb%d0%b5%d0%ba%d1%86%d1%96%d1%8f-%d1%83-google-meet-%d0%bf%d1%80%d0%be%d0%b2%d1%96%d0%b4%d0%bd%d0%be%d0%b3%d0%be-%d1%84%d0%b0%d1%85%d1%96%d0%b2/
LOCATION:Google Meet
CATEGORIES:Семінар з роботодавцями
ATTACH;FMTTYPE=image/jpeg:https://sait.vntu.edu.ua/wp-content/uploads/2023/02/176288061_3269741666585389_655092279304951306_n-DBibm1.tmp_.jpg
END:VEVENT
BEGIN:VEVENT
DTSTART;TZID=Europe/Kiev:20210421T111500
DTEND;TZID=Europe/Kiev:20210421T130000
DTSTAMP:20260422T101032
CREATED:20230228T105919Z
LAST-MODIFIED:20230228T105919Z
UID:13507-1619003700-1619010000@sait.vntu.edu.ua
SUMMARY:Відкрита лекція у Google Meet провідного АІ-фахівця\, Head of AI в Onseo/AUG Global\, CTO в AIBODY\, Kaggle Competitions Master\, д.т.н.\, професора Олександра Мокіна.
DESCRIPTION:21 квітня о 11-15 у Google Meet на кафедрі САІТ факультету КСА ВНТУ пройшла лекція на тему «What are Artificial Intelligence\, Machine Learning\, Deep Learning\, and Data Science?» провідного АІ-фахівця\, Head of AI в Onseo/AUG Global\, CTO в AIBODY\, Kaggle Competitions Master\, д.т.н.\, професора Олександра Мокіна.  \nУ лекції взяли участь студенти бакалаврату спеціальностей 124 і 126 та аспіранти і викладачі кафедр САІТ та АІІТ.  \nОлександр Мокін побудував лекцію на основі матеріалу зі свого корпоративного курсу\, який він викладає у компанії «Onseo». У своїй розповіді він детально зупинився на важливих відмінностях між поняттями AI\, ML\, DL та DS\, спираючись на аргументи провідних вчених світу. Він також зробив короткий огляд найсучасніших напрямків розвитку галузі\, дав поради щодо стартових онлайн курсів. Порадив брати участь у змаганнях Kaggle для закріплення знань на практиці\, але відзначив їх відмінності від реальних проєктів.
URL:http://sait.vntu.edu.ua/uk/event/%d0%b2%d1%96%d0%b4%d0%ba%d1%80%d0%b8%d1%82%d0%b0-%d0%bb%d0%b5%d0%ba%d1%86%d1%96%d1%8f-%d1%83-google-meet-%d0%bf%d1%80%d0%be%d0%b2%d1%96%d0%b4%d0%bd%d0%be%d0%b3%d0%be-%d0%b0%d1%96-%d1%84%d0%b0%d1%85/
LOCATION:Google Meet
CATEGORIES:Семінар з роботодавцями
ATTACH;FMTTYPE=image/jpeg:https://sait.vntu.edu.ua/wp-content/uploads/2023/02/176821288_3270560209836868_677032579432634464_n-1xXoG4.tmp_.jpg
END:VEVENT
END:VCALENDAR