BEGIN:VCALENDAR
VERSION:2.0
PRODID:-//Кафедра САІТ - ECPv6.6.2//NONSGML v1.0//EN
CALSCALE:GREGORIAN
METHOD:PUBLISH
X-WR-CALNAME:Кафедра САІТ
X-ORIGINAL-URL:http://sait.vntu.edu.ua/uk
X-WR-CALDESC:Події для Кафедра САІТ
REFRESH-INTERVAL;VALUE=DURATION:PT1H
X-Robots-Tag:noindex
X-PUBLISHED-TTL:PT1H
BEGIN:VTIMEZONE
TZID:Europe/Kiev
BEGIN:DAYLIGHT
TZOFFSETFROM:+0200
TZOFFSETTO:+0300
TZNAME:EEST
DTSTART:20210328T010000
END:DAYLIGHT
BEGIN:STANDARD
TZOFFSETFROM:+0300
TZOFFSETTO:+0200
TZNAME:EET
DTSTART:20211031T010000
END:STANDARD
END:VTIMEZONE
BEGIN:VEVENT
DTSTART;TZID=Europe/Kiev:20210615T000000
DTEND;TZID=Europe/Kiev:20210616T235959
DTSTAMP:20260422T071426
CREATED:20230228T110020Z
LAST-MODIFIED:20230228T110020Z
UID:13518-1623715200-1623887999@sait.vntu.edu.ua
SUMMARY:Захист бакалаврських дипломних робіт студентами спеціальності 124 (ОП "Системний аналіз") кафедри САІТ
DESCRIPTION:У червні 2021 року на кафедрі САІТ ФКСА ВНТУ у Google Meet відбувся захист бакалаврських дипломних робіт з акредитованої освітньої програми «Системний аналіз» спеціальності 124 «Системний аналіз». Це – вже 3-й випуск саме зі спеціальності 124 (нагадую\, що саме у ВНТУ був перший в Україні випуск бакалаврів з 124 – ще у 2019 р.).Роботи були присвячені застосуванню методів системного аналізу та розробці аналітичних інформаційних систем\, систем і програм з використанням технологій штучного інтелекту\, сучасних баз даних\, веб-технологій та ГІС-технологій. Більшість робіт були науково-дослідними та прикладними і були присвячені важливим проблемам\, пов’язаним з розробленням та застосуванням інформаційних технологій для вирішення прикладних задач системного аналізу: у банківській сфері\, у сфері торгівлі\, у сфері фондового ринку\, у сфері прогнозування якості води у річці та якості атмосферного повітря у місті\, прогнозування вартості авто. Усі роботи використовували реальні дані.\nОдна робота виконувалась в межах НДР\, яку виконувала кафедра САІТ за результатами виграного викладачами тендеру з розроблення Програми державного моніторингу в галузі охорони атмосферного повітря агломерації Вінниця на 2021-2025 роки. Три роботи були виконані на замовлення басейнової ради Південного Бугу.\nНа захисті студенти продемонстрували\, що мають досить високу теоретичну підготовку та володіння практичними навичками використання інформаційних технологій у різних галузях\, володіють методами математичного аналізу\, оптимізації та прийняття рішень та засобами оброблення даних\, моделювання та методами наукових та інженерних досліджень.\nКерівниками бакалаврських дипломних робіт виступили штатні співробітники кафедри САІТ. Головою екзаменаційної комісії був Sergey Oleynik – директор ТОВ “Аналітика”\, відомої в усьому світі своїми потужними аналітичними інформаційними системами\, передусім з використанням геоінформаційних технологій.\nВсі роботи успішно пройшли рецензування та перевірку на плагіат. Найкращі випускники зараз претендують на вступ до магістратури кафедри САІТ.
URL:http://sait.vntu.edu.ua/uk/event/%d0%b7%d0%b0%d1%85%d0%b8%d1%81%d1%82-%d0%b1%d0%b0%d0%ba%d0%b0%d0%bb%d0%b0%d0%b2%d1%80%d1%81%d1%8c%d0%ba%d0%b8%d1%85-%d0%b4%d0%b8%d0%bf%d0%bb%d0%be%d0%bc%d0%bd%d0%b8%d1%85-%d1%80%d0%be%d0%b1%d1%96-7/
LOCATION:Google Meet
CATEGORIES:Захисти
END:VEVENT
BEGIN:VEVENT
DTSTART;TZID=Europe/Kiev:20210623T000000
DTEND;TZID=Europe/Kiev:20210624T235959
DTSTAMP:20260422T071426
CREATED:20230228T110023Z
LAST-MODIFIED:20230228T110023Z
UID:13519-1624406400-1624579199@sait.vntu.edu.ua
SUMMARY:Захист бакалаврських дипломних робіт студентами спеціальності 126 (ОП "Прикладні ІТ") кафедри САІТ
DESCRIPTION:На кафедрі САІТ ФКСА ВНТУ у Google Meet у червні 2021 року вперше відбувся захист бакалаврських дипломних робіт із нещодавно акредитованої освітньої програми «Прикладні інформаційні технології» спеціальності 126 «Інформаційні системи та технології». Спеціальність була започаткована у 2017 році\, тому цей випуск був першим.Відповідно до особливостей освітньої програми\, у бакалаврських роботах поєднувались фахові знання та вміння створювати програмні продукти із застосуванням прикладних інформаційних технологій\, у тому числі інтелектуальних технологій аналізу даних\, сучасних технологій веб-розроблення\, програмування мобільних пристроїв\, геоінформаційного аналізу даних. У кожній роботі був мінімум один вид таких технологій. Найбільше було робіт із застосуванням чи розвитком інтелектуальних технологій.\nУсі роботи були присвячені розв’язанню прикладних задач за реальними даними: розпізнавання зображень у малих датасетах з використанням Deep Learning\, прогнозування курсу криптовалют\, у медичній сфері (прогнозування кількості нових хворих чи госпіталізованих в Україні в цілому чи в окремих областях зокрема)\, в екології (NLP-технології аналізу україномовного та англомовного тексту про стан довкілля\, автоматизована геоприв’язка текстових даних\, прогнозування якості води у річці)\, створення інформаційної системи Інтернет-магазину. Два студенти розробляли комплексну дипломну роботу\, яка була присвячена розробці інформаційної аналітичної панелі (дашбоарду) захворюваності на коронавірус в Європі.\nДеякі роботи виконувались на замовлення ІТ-компаній міста Вінниці\, басейнової ради Південного Бугу\, Робочої групи з математичного моделювання проблем\, пов’язаних з епідемією коронавірусу SARS-CoV-2 в Україні\, яка регулярно готує аналітику для РНБО України та інших установ та інституцій.\nНа захисті студенти продемонстрували\, що мають досить високу теоретичну підготовку та володіння практичними навичками використання інформаційних технологій у різних галузях\, володіють методами математичного аналізу\, засобами оброблення даних\, моделювання та методами наукових та інженерних досліджень.\nЗа результатами досліджень ряд студентів мають публікації та виступи на науково-технічних конференціях\, у т.ч. на міжнародних.\nКерівниками бакалаврських дипломних робіт виступили штатні співробітники кафедри САІТ. Головою екзаменаційної комісії був Sergey Oleynik  – директор ТОВ “Аналітика”\, відомої в усьому світі своїми потужними аналітичними інформаційними системами\, передусім з використанням геоінформаційних технологій.\nВсі роботи успішно пройшли рецензування та перевірку на плагіат. Найкращі випускники зараз претендують на вступ до магістратури кафедри САІТ з цієї ж спеціальності 126 Інформаційні системи та технології\, на акредитовану освітню програму «Інформаційні технології аналізу даних та зображень».
URL:http://sait.vntu.edu.ua/uk/event/%d0%b7%d0%b0%d1%85%d0%b8%d1%81%d1%82-%d0%b1%d0%b0%d0%ba%d0%b0%d0%bb%d0%b0%d0%b2%d1%80%d1%81%d1%8c%d0%ba%d0%b8%d1%85-%d0%b4%d0%b8%d0%bf%d0%bb%d0%be%d0%bc%d0%bd%d0%b8%d1%85-%d1%80%d0%be%d0%b1%d1%96-8/
LOCATION:Google Meet
CATEGORIES:Захисти
END:VEVENT
END:VCALENDAR