BEGIN:VCALENDAR
VERSION:2.0
PRODID:-//Кафедра САІТ - ECPv6.6.2//NONSGML v1.0//EN
CALSCALE:GREGORIAN
METHOD:PUBLISH
X-WR-CALNAME:Кафедра САІТ
X-ORIGINAL-URL:http://sait.vntu.edu.ua/uk
X-WR-CALDESC:Події для Кафедра САІТ
REFRESH-INTERVAL;VALUE=DURATION:PT1H
X-Robots-Tag:noindex
X-PUBLISHED-TTL:PT1H
BEGIN:VTIMEZONE
TZID:Europe/Kiev
BEGIN:DAYLIGHT
TZOFFSETFROM:+0200
TZOFFSETTO:+0300
TZNAME:EEST
DTSTART:20210328T010000
END:DAYLIGHT
BEGIN:STANDARD
TZOFFSETFROM:+0300
TZOFFSETTO:+0200
TZNAME:EET
DTSTART:20211031T010000
END:STANDARD
END:VTIMEZONE
BEGIN:VEVENT
DTSTART;TZID=Europe/Kiev:20211007T144500
DTEND;TZID=Europe/Kiev:20211007T153000
DTSTAMP:20260422T020315
CREATED:20230228T105910Z
LAST-MODIFIED:20230228T105910Z
UID:13504-1633617900-1633620600@sait.vntu.edu.ua
SUMMARY:Презентація наукових гуртків ФКСА
DESCRIPTION:7 жовтня 2021 року  відбулась презентація наукових гуртків Факультету комп’ютерних систем і автоматики ВНТУ перед учнями Подільського науково-технічного ліцею для обдарованої молоді (ПНТЛОМ) у межах проведення Тижня науки.Від кафедри системного аналізу та інформаційних технологій (САІТ) презентував свій науковий гурток для учнів та студентів “Прикладні інформаційні технології\, системний аналіз та штучний інтелект” (на Python) завідувач кафедри\, проф. Мокін В.Б. Презентацію можна завантажити у Телеграм-групі гуртка: https://t.me/ai_ml_vntu
URL:http://sait.vntu.edu.ua/uk/event/%d0%bf%d1%80%d0%b5%d0%b7%d0%b5%d0%bd%d1%82%d0%b0%d1%86%d1%96%d1%8f-%d0%bd%d0%b0%d1%83%d0%ba%d0%be%d0%b2%d0%b8%d1%85-%d0%b3%d1%83%d1%80%d1%82%d0%ba%d1%96%d0%b2-%d1%84%d0%ba%d1%81%d0%b0/
LOCATION:ВНТУ\, Вінниця\, 21000\, Ukraine
CATEGORIES:Зустріч з учнями
END:VEVENT
END:VCALENDAR