BEGIN:VCALENDAR
VERSION:2.0
PRODID:-//Кафедра САІТ - ECPv6.6.2//NONSGML v1.0//EN
CALSCALE:GREGORIAN
METHOD:PUBLISH
X-WR-CALNAME:Кафедра САІТ
X-ORIGINAL-URL:http://sait.vntu.edu.ua/uk
X-WR-CALDESC:Події для Кафедра САІТ
REFRESH-INTERVAL;VALUE=DURATION:PT1H
X-Robots-Tag:noindex
X-PUBLISHED-TTL:PT1H
BEGIN:VTIMEZONE
TZID:Europe/Kiev
BEGIN:DAYLIGHT
TZOFFSETFROM:+0200
TZOFFSETTO:+0300
TZNAME:EEST
DTSTART:20220327T010000
END:DAYLIGHT
BEGIN:STANDARD
TZOFFSETFROM:+0300
TZOFFSETTO:+0200
TZNAME:EET
DTSTART:20221030T010000
END:STANDARD
END:VTIMEZONE
BEGIN:VEVENT
DTSTART;TZID=Europe/Kiev:20220412T000000
DTEND;TZID=Europe/Kiev:20220412T235959
DTSTAMP:20260421T071353
CREATED:20230228T105839Z
LAST-MODIFIED:20230228T105839Z
UID:13493-1649721600-1649807999@sait.vntu.edu.ua
SUMMARY:День факультету ІІТА
DESCRIPTION:Вітаємо ФІІТА з днем народження!
URL:http://sait.vntu.edu.ua/uk/event/%d0%b4%d0%b5%d0%bd%d1%8c-%d1%84%d0%b0%d0%ba%d1%83%d0%bb%d1%8c%d1%82%d0%b5%d1%82%d1%83-%d1%96%d1%96%d1%82%d0%b0-2/
CATEGORIES:Свято
END:VEVENT
BEGIN:VEVENT
DTSTART;TZID=Europe/Kiev:20220418T000000
DTEND;TZID=Europe/Kiev:20220419T235959
DTSTAMP:20260421T071353
CREATED:20230228T105837Z
LAST-MODIFIED:20230228T105837Z
UID:13492-1650240000-1650412799@sait.vntu.edu.ua
SUMMARY:2-й Bootcamp міжнародного стажування викладачів кафедри САІТ в Університеті Тарту (Естонія)
DESCRIPTION:Сьогодні пройшов 3-й з 10 день онлайн-навчань з міжнародного стажування в Університеті Тарту (Естонія) у межах проєкту «Development of innovative capacity and entrepreneurial competence of Ukrainian universities: sharing best practice of Estonia (UnivEntre)».Викладачів навчають як слід навчати студентів розробляти стартапи. Як практичне завдання слухачі самі спочатку мають розробити стартап на рівні концепції\, економічного обґрунтування та ін. (практична реалізація не вимагається)\, відповідно до методичних вказівок\, вимог та шаблонів.\nУсі слухачі розбиті на 15 команд. На першій зустрічі слухачі пропонували ідеї\, а інші їх вибирали. Ці 15 вибрало найбільше слухачів. У моїй команді – 5 осіб\, у т.ч. з нашої кафедри САІТ ФІІТА ВНТУ: 2 професори\, 2 доценти і асистент – викладачі з ІТ\, економіки та права – Элла Деркач \, Misha Dratovany та ін.\nВикладання здійснюється англійською. Слухачі доповідають теж англійською. Я\, як капітан команди «Smart-Food-Cook»\, сьогодні двічі доповідав розробки нашої команди. Завтра буде 4-й день навчань. Частина курсу планувалась очно у Києві\, але наразі програму скореговано і вона вся буде онлайн.
URL:http://sait.vntu.edu.ua/uk/event/2-%d0%b9-bootcamp-%d0%bc%d1%96%d0%b6%d0%bd%d0%b0%d1%80%d0%be%d0%b4%d0%bd%d0%be%d0%b3%d0%be-%d1%81%d1%82%d0%b0%d0%b6%d1%83%d0%b2%d0%b0%d0%bd%d0%bd%d1%8f-%d0%b2%d0%b8%d0%ba%d0%bb%d0%b0%d0%b4%d0%b0%d1%87/
LOCATION:Google Meet
CATEGORIES:Стажування
END:VEVENT
END:VCALENDAR