BEGIN:VCALENDAR
VERSION:2.0
PRODID:-//Кафедра САІТ - ECPv6.6.2//NONSGML v1.0//EN
CALSCALE:GREGORIAN
METHOD:PUBLISH
X-ORIGINAL-URL:http://sait.vntu.edu.ua/uk
X-WR-CALDESC:Події для Кафедра САІТ
REFRESH-INTERVAL;VALUE=DURATION:PT1H
X-Robots-Tag:noindex
X-PUBLISHED-TTL:PT1H
BEGIN:VTIMEZONE
TZID:Europe/Kiev
BEGIN:DAYLIGHT
TZOFFSETFROM:+0200
TZOFFSETTO:+0300
TZNAME:EEST
DTSTART:20220327T010000
END:DAYLIGHT
BEGIN:STANDARD
TZOFFSETFROM:+0300
TZOFFSETTO:+0200
TZNAME:EET
DTSTART:20221030T010000
END:STANDARD
END:VTIMEZONE
BEGIN:VEVENT
DTSTART;TZID=Europe/Kiev:20220504T000000
DTEND;TZID=Europe/Kiev:20220505T235959
DTSTAMP:20260421T054413
CREATED:20230228T105834Z
LAST-MODIFIED:20230228T105834Z
UID:13491-1651622400-1651795199@sait.vntu.edu.ua
SUMMARY:3-й Bootcamp міжнародного стажування викладачів кафедри САІТ в Університеті Тарту (Естонія)
DESCRIPTION:4 викладачі кафедри системного аналізу та інформаційних технологій ФІІТА 4-5 травня навчались на 3-му з 5 Bootcamp (5 і 6 дні з 10) онлайн-навчань з міжнародного стажування в Університеті Тарту (Естонія) у межах проєкту «Development of innovative capacity and entrepreneurial competence of Ukrainian universities: sharing best practice of Estonia (UnivEntre)».Темою 3-го Bootcamp було “Product Market Fit & Marketing”. Виступали міжнародні експерти. Була теорія на багатьох цікавих прикладах. Проводились тренінги\, де кожна команда оперативно готувала завдання за зразком і потім керівники команд доповідали про свої рішення англійською мовою (я доповідав рішення нашої команди “Smart-food-cook” з 5 викладачів із двох університетів). Зараз усі учасники готують домашні завдання\, які треба не пізніше\, як завтра\, завантажити в систему курсу.\nНабуті знання та навички будуть використані під час викладання\, оскільки учасники стажування викладають дисципліни освітніх програм спеціальностей 124 і 126 кафедри (https://mmss.vntu.edu.ua/index.php/ua/)\, які якраз закривають компетентності та програмні результати навчання\, пов’язані з управлінням ІТ-проєктами\, розробленням реальних інформаційних систем та технологій\, аналітичних та інтелектуальних систем тощо.
URL:http://sait.vntu.edu.ua/uk/event/3-%d0%b9-bootcamp-%d0%bc%d1%96%d0%b6%d0%bd%d0%b0%d1%80%d0%be%d0%b4%d0%bd%d0%be%d0%b3%d0%be-%d1%81%d1%82%d0%b0%d0%b6%d1%83%d0%b2%d0%b0%d0%bd%d0%bd%d1%8f-%d0%b2%d0%b8%d0%ba%d0%bb%d0%b0%d0%b4%d0%b0%d1%87/
LOCATION:Google Meet
CATEGORIES:Стажування
END:VEVENT
BEGIN:VEVENT
DTSTART;TZID=Europe/Kiev:20220524T000000
DTEND;TZID=Europe/Kiev:20220525T235959
DTSTAMP:20260421T054413
CREATED:20230228T105826Z
LAST-MODIFIED:20230228T105826Z
UID:13490-1653350400-1653523199@sait.vntu.edu.ua
SUMMARY:4-й Bootcamp міжнародного стажування викладачів кафедри САІТ в Університеті Тарту (Естонія)
DESCRIPTION:24-25 травня 2022 року завершився останній Bootcamp навчань з міжнародного стажування в Університеті Тарту (Естонія) у межах проєкту «Development of innovative capacity and entrepreneurial competence of Ukrainian universities: sharing best practice of Estonia (UnivEntre)»\, де викладачів ЗВО України\, у т.ч. 4-х викладачів кафедри системного аналізу та інформаційних технологій Факультету інтелектуальних інформаційних технологій та автоматизації ВНТУ\, навчали як вчити студентів розробляти свої стартапи. Наша команда з викладачів двох університетів розробила відповідну документацію та презентаційні матеріали стартапу “Smart-Food-Cook”.27 травня ми ще зустрічались з ментором курсів\, де він вислухав наші напрацювання і дав ряд корисних порад як можна покращити і сам матеріал\, і як його краще подавати. Сьогодні 31 травня курс завершився. Здано останні матеріали. Чекаємо на сертифікати. Стартап\, який ми придумали\, ми вважаємо цікавим і перспективним. Попередньо домовились\, що це згодом може бути міжуніверситетськими дипломними чи курсовими роботами наших студентів.\nДвоє викладачі кафедри САІТ вже врахували набутий досвід у своєму посібнику у співавторстві “Моделювання бізнес-процесів та управління ІТ-проєктами” (друге видання)\, який вже подано на розгляд Методичної ради ВНТУ.
URL:http://sait.vntu.edu.ua/uk/event/4-%d0%b9-bootcamp-%d0%bc%d1%96%d0%b6%d0%bd%d0%b0%d1%80%d0%be%d0%b4%d0%bd%d0%be%d0%b3%d0%be-%d1%81%d1%82%d0%b0%d0%b6%d1%83%d0%b2%d0%b0%d0%bd%d0%bd%d1%8f-%d0%b2%d0%b8%d0%ba%d0%bb%d0%b0%d0%b4%d0%b0%d1%87/
LOCATION:Google Meet
CATEGORIES:Стажування
END:VEVENT
BEGIN:VEVENT
DTSTART;TZID=Europe/Kiev:20220525T000000
DTEND;TZID=Europe/Kiev:20220525T235959
DTSTAMP:20260421T054413
CREATED:20230228T105825Z
LAST-MODIFIED:20230228T105825Z
UID:13489-1653436800-1653523199@sait.vntu.edu.ua
SUMMARY:Нове відео "Аналіз та прогнозування часових рядів на прикладі курсу біткоїна" на You Tube-каналі проф.Мокіна В.Б.
DESCRIPTION:Завідувач кафедри САІТ ФІІТА ВНТУ продовжує ділитись досвідом у сфері штучного інтелекту та Data Science на Python. Опублікував нове відео “Аналіз та прогнозування часових рядів на прикладі курсу біткоїна” у своєму YouTube-каналі “Курс AI-ML-DS Training на Python”: https://www.youtube.com/watch?app=desktop&v=hodUvdBC3js&list=PL4DHq-xU-ebUiB6T6vjd0SoDha4GOm8zV&index=24 У програмі на Python реалізовано і моделі часових рядів (FB Prophet\, ARIMA)\, і класичні моделі машинного навчання на основі багатьох ознак – регресії\, дерева рішень\, багатошарова нейронна мережа та ін. Розвідувальний аналіз даних\, синтез нових ознак у різний спосіб\, формування навчального\, валідаційного та тестового датасету\, тюнінг параметрів кожної моделі\, вибір оптимальної моделі і прогноз за нею\, аналіз важливості ознак – про це в деталях і на прикладі.
URL:http://sait.vntu.edu.ua/uk/event/%d0%bd%d0%be%d0%b2%d0%b5-%d0%b2%d1%96%d0%b4%d0%b5%d0%be-%d0%b0%d0%bd%d0%b0%d0%bb%d1%96%d0%b7-%d1%82%d0%b0-%d0%bf%d1%80%d0%be%d0%b3%d0%bd%d0%be%d0%b7%d1%83%d0%b2%d0%b0%d0%bd%d0%bd%d1%8f-%d1%87%d0%b0/
LOCATION:YouTube-канал “Курс AI-ML-DS Training на Python”
CATEGORIES:Тренінг
END:VEVENT
END:VCALENDAR