BEGIN:VCALENDAR
VERSION:2.0
PRODID:-//Кафедра САІТ - ECPv6.6.2//NONSGML v1.0//EN
CALSCALE:GREGORIAN
METHOD:PUBLISH
X-WR-CALNAME:Кафедра САІТ
X-ORIGINAL-URL:http://sait.vntu.edu.ua/uk
X-WR-CALDESC:Події для Кафедра САІТ
REFRESH-INTERVAL;VALUE=DURATION:PT1H
X-Robots-Tag:noindex
X-PUBLISHED-TTL:PT1H
BEGIN:VTIMEZONE
TZID:Europe/Kiev
BEGIN:DAYLIGHT
TZOFFSETFROM:+0200
TZOFFSETTO:+0300
TZNAME:EEST
DTSTART:20220327T010000
END:DAYLIGHT
BEGIN:STANDARD
TZOFFSETFROM:+0300
TZOFFSETTO:+0200
TZNAME:EET
DTSTART:20221030T010000
END:STANDARD
END:VTIMEZONE
BEGIN:VEVENT
DTSTART;TZID=Europe/Kiev:20220607T000000
DTEND;TZID=Europe/Kiev:20220607T235959
DTSTAMP:20260421T071343
CREATED:20230228T105822Z
LAST-MODIFIED:20230228T105822Z
UID:13488-1654560000-1654646399@sait.vntu.edu.ua
SUMMARY:День "відкритих дверей" у ВНТУ
DESCRIPTION:7 червня 2022 року відбувся день відкритих дверей у ВНТУ. ФІІТА дякує організаторам за чудовий день\, також всім абітурієтам і їх батькам\, які були присутні. А найголовніше\, нашим ЗСУ за те\, що маємо можливість продовжувати працювати в такий нелегкий час!
URL:http://sait.vntu.edu.ua/uk/event/%d0%b4%d0%b5%d0%bd%d1%8c-%d0%b2%d1%96%d0%b4%d0%ba%d1%80%d0%b8%d1%82%d0%b8%d1%85-%d0%b4%d0%b2%d0%b5%d1%80%d0%b5%d0%b9-%d1%83-%d0%b2%d0%bd%d1%82%d1%83-2/
LOCATION:ВНТУ\, Вінниця\, 21000\, Ukraine
CATEGORIES:Прийом
END:VEVENT
BEGIN:VEVENT
DTSTART;TZID=Europe/Kiev:20220614T000000
DTEND;TZID=Europe/Kiev:20220615T235959
DTSTAMP:20260421T071343
CREATED:20230228T105821Z
LAST-MODIFIED:20230228T105821Z
UID:13487-1655164800-1655337599@sait.vntu.edu.ua
SUMMARY:Захист бакалаврських дипломних робіт студентами спеціальності 124 (ОП "Системний аналіз") кафедри САІТ
DESCRIPTION:14-15 червня 2022 року на кафедрі САІТ ФІІТА ВНТУ у Google Meet відбувся захист бакалаврських дипломних робіт з акредитованої освітньої програми «Системний аналіз» спеціальності 124 Системний аналіз. Це – вже 4-й випуск саме зі спеціальності 124.\nРоботи були присвячені застосуванню методів системного аналізу та розробці аналітичних інформаційних систем\, систем і програм з використанням технологій штучного інтелекту\, сучасних баз даних\, веб-технологій та ГІС-технологій за реальними даними у медичній та соціальній сфері\, екології\, у сфері фінансів і торгівлі.  \nГоловою комісії був Мирослав Боцула – PhD\, CEO відомої ІТ-компанії “EQUALTEAM”. \nОдна робота виконувалась в межах НДР\, яку виконувала кафедра САІТ за результатами виграного викладачами тендеру з розроблення Програми державного моніторингу в галузі охорони атмосферного повітря зони «Вінницька» на 2022-2026 роки.  \nДекілька робіт присвячені прогнозуванню курсу криптовалют. \nНайкращі випускники зараз претендують на вступ до магістратури кафедри САІТ.
URL:http://sait.vntu.edu.ua/uk/event/%d0%b7%d0%b0%d1%85%d0%b8%d1%81%d1%82-%d0%b1%d0%b0%d0%ba%d0%b0%d0%bb%d0%b0%d0%b2%d1%80%d1%81%d1%8c%d0%ba%d0%b8%d1%85-%d0%b4%d0%b8%d0%bf%d0%bb%d0%be%d0%bc%d0%bd%d0%b8%d1%85-%d1%80%d0%be%d0%b1%d1%96-6/
LOCATION:Google Meet
CATEGORIES:Захисти
END:VEVENT
BEGIN:VEVENT
DTSTART;TZID=Europe/Kiev:20220618T000000
DTEND;TZID=Europe/Kiev:20220618T235959
DTSTAMP:20260421T071343
CREATED:20230228T105819Z
LAST-MODIFIED:20230228T105819Z
UID:13486-1655510400-1655596799@sait.vntu.edu.ua
SUMMARY:Флешмоб "Презентація факультетів ВНТУ"
DESCRIPTION:
URL:http://sait.vntu.edu.ua/uk/event/%d1%84%d0%bb%d0%b5%d1%88%d0%bc%d0%be%d0%b1-%d0%bf%d1%80%d0%b5%d0%b7%d0%b5%d0%bd%d1%82%d0%b0%d1%86%d1%96%d1%8f-%d1%84%d0%b0%d0%ba%d1%83%d0%bb%d1%8c%d1%82%d0%b5%d1%82%d1%96%d0%b2-%d0%b2%d0%bd%d1%82-2/
LOCATION:ВНТУ\, Вінниця\, 21000\, Ukraine
CATEGORIES:Флешмоб
END:VEVENT
BEGIN:VEVENT
DTSTART;TZID=Europe/Kiev:20220618T000000
DTEND;TZID=Europe/Kiev:20220621T235959
DTSTAMP:20260421T071343
CREATED:20230228T105811Z
LAST-MODIFIED:20230228T105811Z
UID:13485-1655510400-1655855999@sait.vntu.edu.ua
SUMMARY:Захист бакалаврських дипломних робіт студентами спеціальності 126 (ОП "Прикладні ІТ") кафедри САІТ
DESCRIPTION:18-21 червня 2022 року на кафедрі САІТ ФІІТА ВНТУ (https://mmss.vntu.edu.ua/index.php/ua/) у Google Meet відбувся захист бакалаврських дипломних робіт з акредитованої освітньої програми «Прикладні інформаційні технології» спеціальності 126 «Інформаційні системи та технології» (ІСТ).\nРоботи були присвячені розробленню та застосуванню ІСТ до реальних даних у сфері прогнозування курсу криптовалют\, моніторингу стану повітря та якості води тощо з використанням машинного навчання та штучного інтелекту на Python\, програмування мобільних додатків\, просторового аналізу.  \n100 балів отримала робота Івана Недолі\, який у складі колективу розробив інформаційну систему для автоматизації роботи користувачів мережі електрозарядних станцій EcoStation\, мобільний додаток якої є в Google Play (https://apkgk.com/com.ecostation)\, а система вже використовується в роботі компанії пасажирських перевезень EcoTaxi у Вінниці\, Хмельницькому\, Тернополі\, Житомирі та Луцьку.  \nВипускники претендують на вступ до магістратури кафедри САІТ.
URL:http://sait.vntu.edu.ua/uk/event/%d0%b7%d0%b0%d1%85%d0%b8%d1%81%d1%82-%d0%b1%d0%b0%d0%ba%d0%b0%d0%bb%d0%b0%d0%b2%d1%80%d1%81%d1%8c%d0%ba%d0%b8%d1%85-%d0%b4%d0%b8%d0%bf%d0%bb%d0%be%d0%bc%d0%bd%d0%b8%d1%85-%d1%80%d0%be%d0%b1%d1%96-5/
LOCATION:Google Meet
CATEGORIES:Захисти
END:VEVENT
BEGIN:VEVENT
DTSTART;TZID=Europe/Kiev:20220624T110000
DTEND;TZID=Europe/Kiev:20220624T130000
DTSTAMP:20260421T071343
CREATED:20230228T105810Z
LAST-MODIFIED:20230228T105810Z
UID:13484-1656068400-1656075600@sait.vntu.edu.ua
SUMMARY:XI засідання басейнової ради Південного Бугу
DESCRIPTION:
URL:http://sait.vntu.edu.ua/uk/event/xi-%d0%b7%d0%b0%d1%81%d1%96%d0%b4%d0%b0%d0%bd%d0%bd%d1%8f-%d0%b1%d0%b0%d1%81%d0%b5%d0%b9%d0%bd%d0%be%d0%b2%d0%be%d1%97-%d1%80%d0%b0%d0%b4%d0%b8-%d0%bf%d1%96%d0%b2%d0%b4%d0%b5%d0%bd%d0%bd%d0%be%d0%b3-2/
LOCATION:Google Meet
CATEGORIES:Нарада
END:VEVENT
BEGIN:VEVENT
DTSTART;TZID=Europe/Kiev:20220628T000000
DTEND;TZID=Europe/Kiev:20220628T235959
DTSTAMP:20260421T071343
CREATED:20230228T105809Z
LAST-MODIFIED:20230228T105809Z
UID:13483-1656374400-1656460799@sait.vntu.edu.ua
SUMMARY:Презентація у YouTube спеціальностей ФІІТА
DESCRIPTION:
URL:http://sait.vntu.edu.ua/uk/event/%d0%bf%d1%80%d0%b5%d0%b7%d0%b5%d0%bd%d1%82%d0%b0%d1%86%d1%96%d1%8f-%d1%83-youtube-%d1%81%d0%bf%d0%b5%d1%86%d1%96%d0%b0%d0%bb%d1%8c%d0%bd%d0%be%d1%81%d1%82%d0%b5%d0%b9-%d1%84%d1%96%d1%96%d1%82%d0%b0-2/
LOCATION:YouTube
CATEGORIES:Презентація
END:VEVENT
END:VCALENDAR