BEGIN:VCALENDAR
VERSION:2.0
PRODID:-//Кафедра САІТ - ECPv6.6.2//NONSGML v1.0//EN
CALSCALE:GREGORIAN
METHOD:PUBLISH
X-ORIGINAL-URL:http://sait.vntu.edu.ua/uk
X-WR-CALDESC:Події для Кафедра САІТ
REFRESH-INTERVAL;VALUE=DURATION:PT1H
X-Robots-Tag:noindex
X-PUBLISHED-TTL:PT1H
BEGIN:VTIMEZONE
TZID:Europe/Kiev
BEGIN:DAYLIGHT
TZOFFSETFROM:+0200
TZOFFSETTO:+0300
TZNAME:EEST
DTSTART:20220327T010000
END:DAYLIGHT
BEGIN:STANDARD
TZOFFSETFROM:+0300
TZOFFSETTO:+0200
TZNAME:EET
DTSTART:20221030T010000
END:STANDARD
END:VTIMEZONE
BEGIN:VEVENT
DTSTART;TZID=Europe/Kiev:20220727T000000
DTEND;TZID=Europe/Kiev:20220727T235959
DTSTAMP:20260421T024030
CREATED:20230228T105806Z
LAST-MODIFIED:20230228T105806Z
UID:13482-1658880000-1658966399@sait.vntu.edu.ua
SUMMARY:Конкурс Kaggle з прогнозування прибутку від інвестицій на фінансових ринках
DESCRIPTION:Нещодавно зав. кафедри САІТ\, проф. Віталій Мокін отримав срібну медаль на конкурсі Kaggle з прогнозування прибутку від інвестицій на фінансових ринках «Ubiquant Market Prediction».\nТреба було передбачити 3 місяці майбутніх даних. Вони минули і він посів призове місце із біля 3 тис. команд з усього світу. Це – його перша срібна медаль в номінації конкурсів Kaggle. На відміну від гаранта освітньої програми “Системний аналіз” спеціальності 124 проф. Олександра Мокіна\, який має 1 золоту і 2 срібні медалі.  \nМокін В.Б. більше спеціалізується на інших номінаціях: з розробки публічних ноутбуків має вже 20 золотих і 17 срібних медалей; серед розробників датасетів – 1 золота і 9 срібних; з професійних дискусій – 12 золотих і 23 срібні.  \nНабутий досвід він активно використовує у лекціях для студентів спеціальностей 124 (бакалаврат та аспірантура) і 126 (бакалаврат\, магістратура та аспірантура). Багато  студентів та аспірантів кафедри також мають медалі.
URL:http://sait.vntu.edu.ua/uk/event/%d0%ba%d0%be%d0%bd%d0%ba%d1%83%d1%80%d1%81-kaggle-%d0%b7-%d0%bf%d1%80%d0%be%d0%b3%d0%bd%d0%be%d0%b7%d1%83%d0%b2%d0%b0%d0%bd%d0%bd%d1%8f-%d0%bf%d1%80%d0%b8%d0%b1%d1%83%d1%82%d0%ba%d1%83-%d0%b2%d1%96/
LOCATION:Kaggle
CATEGORIES:Конкурс
END:VEVENT
BEGIN:VEVENT
DTSTART;TZID=Europe/Kiev:20220729T000000
DTEND;TZID=Europe/Kiev:20220823T235959
DTSTAMP:20260421T024030
CREATED:20230228T105804Z
LAST-MODIFIED:20230228T105804Z
UID:13481-1659052800-1661299199@sait.vntu.edu.ua
SUMMARY:Початок подання заяв на вступ до ВНТУ та Міжнародний день сисадміна
DESCRIPTION:Сьогодні розпочався прийом заяв від випускників ПЗСО (11 класів) на бакалаврат. Символічно\, що МОН розпочало його в одну з ІТ-шних дат – у Міжнародний День системного адміністратора (https://sysadminday.com/)\, з чим усіх і вітаємо! Це – одна з посад\, яку посідають випускники нашого факультету ІІТА ВНТУ\, хоча основна маса випускників працюють ІТ-менеджерами\, програмістами\, датасайнтистами\, системними аналітиками\, датаінженерами та ін. Більш детально див. на сайті факультету: https://fiita.vntu.edu.ua/…/206/entrance/a/index.html
URL:http://sait.vntu.edu.ua/uk/event/%d0%bf%d0%be%d1%87%d0%b0%d1%82%d0%be%d0%ba-%d0%bf%d0%be%d0%b4%d0%b0%d0%bd%d0%bd%d1%8f-%d0%b7%d0%b0%d1%8f%d0%b2-%d0%bd%d0%b0-%d0%b2%d1%81%d1%82%d1%83%d0%bf-%d0%b4%d0%be-%d0%b2%d0%bd%d1%82%d1%83-2/
LOCATION:ВНТУ\, Вінниця\, 21000\, Ukraine
CATEGORIES:Прийом
END:VEVENT
END:VCALENDAR