BEGIN:VCALENDAR
VERSION:2.0
PRODID:-//Кафедра САІТ - ECPv6.6.2//NONSGML v1.0//EN
CALSCALE:GREGORIAN
METHOD:PUBLISH
X-ORIGINAL-URL:http://sait.vntu.edu.ua/uk
X-WR-CALDESC:Події для Кафедра САІТ
REFRESH-INTERVAL;VALUE=DURATION:PT1H
X-Robots-Tag:noindex
X-PUBLISHED-TTL:PT1H
BEGIN:VTIMEZONE
TZID:Europe/Kiev
BEGIN:DAYLIGHT
TZOFFSETFROM:+0200
TZOFFSETTO:+0300
TZNAME:EEST
DTSTART:20220327T010000
END:DAYLIGHT
BEGIN:STANDARD
TZOFFSETFROM:+0300
TZOFFSETTO:+0200
TZNAME:EET
DTSTART:20221030T010000
END:STANDARD
END:VTIMEZONE
BEGIN:VEVENT
DTSTART;TZID=Europe/Kiev:20221201T000000
DTEND;TZID=Europe/Kiev:20221201T235959
DTSTAMP:20260420T165749
CREATED:20230228T105724Z
LAST-MODIFIED:20230306T130731Z
UID:13468-1669852800-1669939199@sait.vntu.edu.ua
SUMMARY:Базова версія ноутбуку "Air Quality - Vinnytsia City Station forecasting"
DESCRIPTION:Сьогодні\, 1 грудня 2022 року\,  на практичних заняттях проф. Мокін В.Б. спільно зі студентами-магістрантами групи 2ІСТ-22м спеціальності 126 ІСТ підготували базову версію ноутбуку “Air Quality – Vinnytsia City Station forecasting” (https://www.kaggle.com/…/air-quality-vinnytsia-city…)\, який дозволяє моделювати та прогнозувати значення показника якості атмосферного повітря по заданому посту громадської системи моніторингу м. Вінниці всеукраїнської мережі “EcoCity”\, які цей ноутбук завантажує автоматично по API (задану кількість останніх значень) з сайту відкритих даних Вінницької міськради https://opendata.gov.ua/…/f0c7b7ad-dfba-40c6-bd14…. Ноутбук за простим алгоритмом виявляє аномалії і враховує їх спеціальним чином\, який передбачено моделлю Facebook Prophet. Поки точність – не дуже висока\, але це – заготовка для використання студентами під час виконання лабораторних\, курсових і кваліфікаційних завдань. В тексті проф. Мокін В.Б. додав ряд порад що\, де і як можна удосконалити\, щоб підвищити точність. Усі бажаючі можуть собі зробити копію і удосконалювати Python-код у своєму Kaggle-аккаунті.
URL:http://sait.vntu.edu.ua/uk/event/%d0%b1%d0%b0%d0%b7%d0%be%d0%b2%d0%b0-%d0%b2%d0%b5%d1%80%d1%81%d1%96%d1%8f-%d0%bd%d0%be%d1%83%d1%82%d0%b1%d1%83%d0%ba%d1%83-air-quality-vinnytsia-city-station-forecasting/
CATEGORIES:Навчання
END:VEVENT
BEGIN:VEVENT
DTSTART;TZID=Europe/Kiev:20221207T110000
DTEND;TZID=Europe/Kiev:20221207T130000
DTSTAMP:20260420T165749
CREATED:20230228T105721Z
LAST-MODIFIED:20230623T121242Z
UID:13467-1670410800-1670418000@sait.vntu.edu.ua
SUMMARY:XII засідання Басейнової ради Південного Бугу
DESCRIPTION:7 грудня2022 року о 11.00 у режимі он-лайн відбулося XII засідання басейнової ради Південного Бугу\, де\, серед інших питань\, була надана інформація про веб-систему для членів басейнової ради “WISESTR-SBB”\, яка містить важливу інформацію для розроблення і верифікації Плану управління річковим басейном Південного Бугу\, а також – про наукові розробки вчених кафедри САІТ ФІІТА ВНТУ щодо інтелектуальних NLP-технологій для автоматизованого наповнення і верифікації даних цієї веб-системи.Програма засідання та посилання для приєднання є у ФБ-групі “Діяльність Басейнової ради Південного Бугу”.
URL:http://sait.vntu.edu.ua/uk/event/xii-%d0%b7%d0%b0%d1%81%d1%96%d0%b4%d0%b0%d0%bd%d0%bd%d1%8f-%d0%b1%d0%b0%d1%81%d0%b5%d0%b9%d0%bd%d0%be%d0%b2%d0%be%d1%97-%d1%80%d0%b0%d0%b4%d0%b8-%d0%bf%d1%96%d0%b2%d0%b4%d0%b5%d0%bd%d0%bd%d0%be%d0%b3/
LOCATION:Google Meet
CATEGORIES:Нарада
END:VEVENT
BEGIN:VEVENT
DTSTART;TZID=Europe/Kiev:20221214T000000
DTEND;TZID=Europe/Kiev:20221214T235959
DTSTAMP:20260420T165749
CREATED:20230228T105714Z
LAST-MODIFIED:20230623T121240Z
UID:13465-1670976000-1671062399@sait.vntu.edu.ua
SUMMARY:До ВНТУ завітав Міністр освіти і науки України Сергій Шкарлет
DESCRIPTION:14 грудня 2022 року до Вінницького національного технічного університету завітав Міністр освіти і науки України Сергій Шкарлет! Факультет ІІТА на чолі деканом Владимир Севастьянов представив свої здобутки.
URL:http://sait.vntu.edu.ua/uk/event/%d0%b4%d0%be-%d0%b2%d0%bd%d1%82%d1%83-%d0%b7%d0%b0%d0%b2%d1%96%d1%82%d0%b0%d0%b2-%d0%bc%d1%96%d0%bd%d1%96%d1%81%d1%82%d1%80-%d0%be%d1%81%d0%b2%d1%96%d1%82%d0%b8-%d1%96-%d0%bd%d0%b0%d1%83%d0%ba%d0%b8/
LOCATION:ВНТУ\, Вінниця\, 21000\, Ukraine
CATEGORIES:Зустріч
END:VEVENT
BEGIN:VEVENT
DTSTART;TZID=Europe/Kiev:20221214T000000
DTEND;TZID=Europe/Kiev:20221214T235959
DTSTAMP:20260420T165749
CREATED:20230228T105719Z
LAST-MODIFIED:20230623T121236Z
UID:13466-1670976000-1671062399@sait.vntu.edu.ua
SUMMARY:Робота секції з питань водних ресурсів Науково-технічної ради Держводагентства
DESCRIPTION:14 грудня 2022 року завідувач кафедри САІТ\, проф. Мокін В.Б. взяв участь у роботі секції з питань водних ресурсів Науково-технічної ради Держводагентства під головуванням заступника Голови Держводагентства\, доктора технічних наук Ігоря Гопчака. На засіданні були розглянуті питання агрегації масивів поверхневих вод у рамках впровадження державного моніторингу вод та представлено Методичні рекомендації з відновлення гідроморфологічних характеристик водотоків – методики\, важливі для розроблення Планів управління річковими басейнами України відповідно до вимог Водної рамкової директиви ЄС.Більш докладно про результати роботи засідання див. у пості Держводагентства https://www.facebook.com/davr.gov.ua/posts/pfbid02WNXNeALcjtTJssfGYFjDgiQnTxcaZxHSxiqL7xFd6KzMirBnLQ9oTEmJYJviMeBbl
URL:http://sait.vntu.edu.ua/uk/event/%d1%80%d0%be%d0%b1%d0%be%d1%82%d0%b0-%d1%81%d0%b5%d0%ba%d1%86%d1%96%d1%97-%d0%b7-%d0%bf%d0%b8%d1%82%d0%b0%d0%bd%d1%8c-%d0%b2%d0%be%d0%b4%d0%bd%d0%b8%d1%85-%d1%80%d0%b5%d1%81%d1%83%d1%80%d1%81%d1%96/
LOCATION:Google Meet
CATEGORIES:Нарада
END:VEVENT
BEGIN:VEVENT
DTSTART;TZID=Europe/Kiev:20221216T150000
DTEND;TZID=Europe/Kiev:20221216T170000
DTSTAMP:20260420T165749
CREATED:20230228T105712Z
LAST-MODIFIED:20230623T121233Z
UID:13464-1671202800-1671210000@sait.vntu.edu.ua
SUMMARY:VNTU OPEN DAY!
DESCRIPTION:VNTU OPEN DAY – 21.12.2022!Запрошуємо завітати до нас на День відкритих дверей! Зустрінемось 21-го грудня о 15:00 в онлайн режимі за посиланням:\nhttps://bit.ly/3ViZwVz\nІдентифікатор: 441 919 7808\nПароль: 2022\nНа Вас чекає знайомство:\n– з адміністрацією університету та факультетів;\n– з переліком переваг навчання у ВНТУ;\n– з різноманітними науковими гуртками кожного факультету;\n– з основними питаннями щодо Вступу 2023.\nНам є що розповісти\, показати та запропонувати майбутнім абітурієнтам ВНТУ! \nНе зволікайте та проходьте реєстрацію за посиланням\nhttps://bit.ly/3v0PYU4\nМи додамо Вас у свої чати\, відповімо на всі запитання та будемо супроводжувати впродовж усієї вступної кампанії!\nНе пропустіть можливість стати на крок ближчими до навчання в університеті своєї мрії! \nПосилання на факультетські зустрічі:\n•	ФМІБ \nhttps://bit.ly/3BBZukf\nІдентифікатор: 841 1715 0020\nПароль: 2S2yvY\n•	ФІЕС \nhttps://bit.ly/3FYpwks\n•	ФІТКІ \nhttps://bit.ly/3BG5jx7\nІдентифікатор: 907 449 4953\nПароль: ByX44B\n•	ФЕЕЕМ \nhttps://bit.ly/3UZSggV\nІдентифікатор: 832 1934 3098\nПароль: HDa4eJ\n•	ФБЦЕІ \nhttps://bit.ly/3uTZf0v\nІдентифікатор: 953 619 5409\nПароль: 111\n•	ФІІТА \nhttps://bit.ly/3BC0Ifl\nІдентифікатор: 858 6579 3421\nПароль: nGeC9S\n•	ФМТ \nhttps://bit.ly/3V2UiwM\nІдентифікатор: 777 661 7947\nПароль: xsNLJ7
URL:http://sait.vntu.edu.ua/uk/event/vntu-open-day/
CATEGORIES:Прийом
END:VEVENT
BEGIN:VEVENT
DTSTART;TZID=Europe/Kiev:20221221T000000
DTEND;TZID=Europe/Kiev:20221221T235959
DTSTAMP:20260420T165749
CREATED:20230228T105710Z
LAST-MODIFIED:20230623T121230Z
UID:13463-1671580800-1671667199@sait.vntu.edu.ua
SUMMARY:ВНТУ в 30-ці в українському сегменті рейтингу Webometrics!
DESCRIPTION:ВНТУ в 30-ці в українському сегменті рейтингу Webometrics! \nОпубліковано цьогорічний результат рейтингування університетів Ranking Web of Universities (Webometrics). Вінницький національний технічний університет посідає у рейтингу 26 місце\, а за показником Openness наш університет є 9 в Україні.\nСеред першої сотні українських ЗВО університети Вінниці посіли такі місця: ВНМУ – 20\, ВНТУ – 26\, ДонНУ – 35\, ВДПУ – 88\, ВНАУ в першу сотню не потрапив.\nЗагалом цього разу представленість у веб-просторі було оцінено для більш ніж 31 тисячі ЗВО світу\, серед яких 312 – з України.\nПід час укладання рейтингу брали до уваги такі показники:\n•	Impact (Вплив) – комбінація кількості зовнішніх гіперпосилань на домен університету й кількості доменів\, з яких ці посилання надходять;\n•	Openness (Відкритість) – кількість наявних на сайті університету файлів у форматах Adobe Acrobat\, Microsoft Word і Microsoft PowerPoint\, проіндексованих академічною пошуковою системою Google Scholar;\n•	Excellence (Висока якість) – кількість наукових статей\, що опубліковані авторами університету в журналах\, проіндексованих наукометричною базою Scopus\, та входять до складу 10% статей\, найбільш цитованих у своїх наукових галузях\, за версією Scimago Group.
URL:http://sait.vntu.edu.ua/uk/event/%d0%b2%d0%bd%d1%82%d1%83-%d0%b2-30-%d1%86%d1%96-%d0%b2-%d1%83%d0%ba%d1%80%d0%b0%d1%97%d0%bd%d1%81%d1%8c%d0%ba%d0%be%d0%bc%d1%83-%d1%81%d0%b5%d0%b3%d0%bc%d0%b5%d0%bd%d1%82%d1%96-%d1%80%d0%b5%d0%b9/
CATEGORIES:Рейтинг
END:VEVENT
END:VCALENDAR