BEGIN:VCALENDAR
VERSION:2.0
PRODID:-//Кафедра САІТ - ECPv6.6.2//NONSGML v1.0//EN
CALSCALE:GREGORIAN
METHOD:PUBLISH
X-ORIGINAL-URL:http://sait.vntu.edu.ua/uk
X-WR-CALDESC:Події для Кафедра САІТ
REFRESH-INTERVAL;VALUE=DURATION:PT1H
X-Robots-Tag:noindex
X-PUBLISHED-TTL:PT1H
BEGIN:VTIMEZONE
TZID:Europe/Kiev
BEGIN:DAYLIGHT
TZOFFSETFROM:+0200
TZOFFSETTO:+0300
TZNAME:EEST
DTSTART:20230326T010000
END:DAYLIGHT
BEGIN:STANDARD
TZOFFSETFROM:+0300
TZOFFSETTO:+0200
TZNAME:EET
DTSTART:20231029T010000
END:STANDARD
END:VTIMEZONE
BEGIN:VEVENT
DTSTART;TZID=Europe/Kiev:20230412T111500
DTEND;TZID=Europe/Kiev:20230412T140000
DTSTAMP:20260420T095045
CREATED:20230410T142141Z
LAST-MODIFIED:20230410T142259Z
UID:17937-1681298100-1681308000@sait.vntu.edu.ua
SUMMARY:Цикл відкритих лекцій провідних ІТ-фахівців
DESCRIPTION:Запрошуємо на першу частину Циклу відкритих лекцій\, приурочену до Дня Факультету інтелектуальних інформаційних технологій та автоматизації ВНТУ 12 квітня 2023 року! \n\n\n\nПосилання буде поширено через старост груп здобувачів вищої освіти бакалаврату\, магістратури та аспірантури спеціальностей ФІІТА орієнтовно за 15 хв. до початку \n\n\n\nКількість місць обмежена 250 осіб. Останні 10 місць резервуються для лекторів та викладачів. \n\n\n\nДля студентів старших курсів також будуть цікавими можливості проходження виробничої практики\, а для випускних курсів – працевлаштування. В цих організаціях вже працює чимало випускників нашого факультету різних років.
URL:http://sait.vntu.edu.ua/uk/event/tsykl-vidkrytykh-lektsii-providnykh-it-fa/
END:VEVENT
BEGIN:VEVENT
DTSTART;TZID=Europe/Kiev:20230413T111500
DTEND;TZID=Europe/Kiev:20230413T140000
DTSTAMP:20260420T095045
CREATED:20230413T011504Z
LAST-MODIFIED:20230414T172600Z
UID:17947-1681384500-1681394400@sait.vntu.edu.ua
SUMMARY:Завершився цикл відкритих лекцій провідних ІТ-фахівців
DESCRIPTION:Сьогодні 12 квітня 2023 р. у День Факультету інтелектуальних інформаційних технологій та автоматизації ВНТУ стартував традиційний Цикл відкритих лекцій провідних ІТ-фахівців організацій\, де працює чимало випускників нашого факультету: \n\n\n\n– «Виклики Industry 4.0 та як знайти свого першого інвестора?»\, \n\n\n\nАндрій Лухверчик – заступник технічного директора ІТ-компанії «ІННОВІНПРОМ»; \n\n\n\n– «Бізнес-аналітика : що треба знати та вміти?»\, Володимир Романенко – директор департаменту ІТ Вінницької міськради; \n\n\n\n– «Мови та технології програмування: сучасний рівень і майбутнє»\, Володимир Сторчак – провідний фахівець у сфері АІ\, Data Science та технологій програмування\, Team Leader компанії “Спільна справа”\, PhD. \n\n\n\nВід факультету участь взяли біля 200 здобувачів вищої освіти бакалаврату\, магістратури та аспірантури усіх освітніх програм спеціальностей 122\, 124\, 126 та 174\, їх викладачі з кафедр САІТ\, АІІТ\, КН та КСУ ФІІТА ВНТУ\, а також запрошені гості\, з якими ведеться певна співпраця. Запрошення розсилались персонально\, оскільки це був – лише факультетський захід. \n\n\n\nПрозвучали дуже цікаві доповіді про сучасний стан і розвиток Industry 4.0\, Інтернету речей\, мов програмування\, був наведений оригінальний приклад формалізації задачі з тематики міського господарства за методологією системного аналізу та з використанням підходів і засобів бізнес-аналітики. Обговорили які можливості відкриває використання технологій штучного інтелекту\, у т.ч. ChatGPT. Була приділена увага тому як знайти своє перше фінансування для стартапу\, як скористатись можливостями грантової допомоги ЄС\, як співпрацювати з ІТ-компаніями. Лектор з ІННОВІНПРОМ озвучив свій успішний досвід у цій сфері. \n\n\n\nОбговорили результати успішної багаторічної співпраці між організаціями лекторів і кафедрами факультету ІІТА та напрямки можливої співпраці у майбутньому. Лектори відповіли на численні різноманітні питання слухачів. Також\, лектори наводили поради студентам на чому варто зосередитись\, щоб підвищити свої шанси знайти гарну роботу і успішно пройти співбесіду на неї: \n\n\n\n– добре знати англійську мову; \n\n\n\n– розвивати свої hard-skills\, тобто добре вивчати мови програмування (відмічали\, що достатньо добре знати хоча б одну мову програмування і основи алгоритмізації\, оскільки різні компанії використовують різні мови\, а знаючи одну\, інші опанувати вже легше)\, інтелектуальні та хмарні технології тощо; \n\n\n\n– розвивати свої soft-skills\, причому часто це важливіше\, ніж hard-skills – варто вчитись командній роботі з іншими студентами\, працювати з викладачами у різних проєктах\, у т.ч. навчальних\, опановувати навички спілкування з експертами з предметної області тощо; \n\n\n\n– брати участь в хакатонах\, опановувати різні курси\, вміти добре писати резюме тощо. \n\n\n\nУ травні планується провести ще ряд відкритих лекцій. Вже є ряд попередніх домовленостей. \n\n\n\nПодія на сайті ВНТУ
URL:http://sait.vntu.edu.ua/uk/event/zavershyvsia-tsykl-vidkrytykh-lektsii-providnykh-it-fakhivtsiv/
END:VEVENT
BEGIN:VEVENT
DTSTART;TZID=Europe/Kiev:20230419T150000
DTEND;TZID=Europe/Kiev:20230419T173000
DTSTAMP:20260420T095045
CREATED:20230418T132737Z
LAST-MODIFIED:20230418T133945Z
UID:17968-1681916400-1681925400@sait.vntu.edu.ua
SUMMARY:Відкриття VIII сезону стартап школи Sikorsky Challenge у Вінниці
DESCRIPTION:Завтра 19 квітня 2023 року у Вінницькому національному технічному університеті відбудеться офіційне відкриття VIII сезону навчання стартап школи “Sikorsky Challenge м. Вінниця” о 15:30 за Київським часом. \n\n\n\nЗацікавлені можуть приєднатися до заходу за допомогою Google Meet\, використовуючи посилання https://meet.google.com/ywq-mxdr-jwp або QR-код на банері. Учасникам необхідно заздалегідь подати запит на під’єднання\, вказавши свої реальні імена та прізвища. \n\n\n\nРеєстрація на участь у стартап школі все ще відкрита: https://vntu.edu.ua/go/startup. Навчання включатиме періодичні онлайн заняття у другій половині дня\, а також можливість залучення менторів для допомоги командам у розробці прототипів у лабораторії ВНТУ\, створеній за підтримки Вінницької міської ради. \n\n\n\nУчасники школи представлять свої стартапи журі та потенційним спонсорам\, а після завершення проекту отримають сертифікати про міжнародне стажування (120 год\, 4 кредити ECTS). Грошовий призовий фонд також буде сформовано цього року. Стартап школа співпрацює з Enterprise Europe Network (EEN)\, що допомагає у пошуку європейських грантів для стартап проєктів.
URL:http://sait.vntu.edu.ua/uk/event/ofitsiine-vidkryttia-viii-sezonu-navchannia/
END:VEVENT
END:VCALENDAR