BEGIN:VCALENDAR
VERSION:2.0
PRODID:-//Кафедра САІТ - ECPv6.6.2//NONSGML v1.0//EN
CALSCALE:GREGORIAN
METHOD:PUBLISH
X-ORIGINAL-URL:http://sait.vntu.edu.ua/uk
X-WR-CALDESC:Події для Кафедра САІТ
REFRESH-INTERVAL;VALUE=DURATION:PT1H
X-Robots-Tag:noindex
X-PUBLISHED-TTL:PT1H
BEGIN:VTIMEZONE
TZID:Europe/Kiev
BEGIN:DAYLIGHT
TZOFFSETFROM:+0200
TZOFFSETTO:+0300
TZNAME:EEST
DTSTART:20220327T010000
END:DAYLIGHT
BEGIN:STANDARD
TZOFFSETFROM:+0300
TZOFFSETTO:+0200
TZNAME:EET
DTSTART:20221030T010000
END:STANDARD
END:VTIMEZONE
BEGIN:VEVENT
DTSTART;TZID=Europe/Kiev:20220117T000000
DTEND;TZID=Europe/Kiev:20220117T235959
DTSTAMP:20260422T140204
CREATED:20230228T105905Z
LAST-MODIFIED:20230228T105905Z
UID:13501-1642377600-1642463999@sait.vntu.edu.ua
SUMMARY:Зміна назви факультету
DESCRIPTION:Шановні викладачі\, співробітники та студенти!З сьогоднішнього дня наш факультет змінює свою назву\, ми стаємо Факультет інтелектуальних інформаційних технологій та автоматизації\, сподіваємося і віримо\, що професіоналізм викладачів\, бажання студентів нашого прекрасного факультету принесе потужні інноваційні результати\, що ми подолаємо всі виклики і будемо ще краще працювати на благо Вінницького національного технічного університету та нашої держави.\nЗ повагою\, адміністрація ФІІТА
URL:http://sait.vntu.edu.ua/uk/event/%d0%b7%d0%bc%d1%96%d0%bd%d0%b0-%d0%bd%d0%b0%d0%b7%d0%b2%d0%b8-%d1%84%d0%b0%d0%ba%d1%83%d0%bb%d1%8c%d1%82%d0%b5%d1%82%d1%83/
LOCATION:ВНТУ\, Вінниця\, 21000\, Ukraine
CATEGORIES:Назва
END:VEVENT
BEGIN:VEVENT
DTSTART;TZID=Europe/Kiev:20220119T000000
DTEND;TZID=Europe/Kiev:20220119T235959
DTSTAMP:20260422T140204
CREATED:20230228T105857Z
LAST-MODIFIED:20230228T105857Z
UID:13500-1642550400-1642636799@sait.vntu.edu.ua
SUMMARY:Вручення дипломів магістрам ФІІТА
DESCRIPTION:Сьогодні\, 19 січня 2022 року\, на факультеті ФІІТА відбулося урочисте вручення дипломів магістрам.Вітальне слово випускники почули від ректора ВНТУ\, доктора наук\, професора Віктора Біліченка\, декана факультету Володимира Севастьянова.  Випускники! Сьогодні\, ви робите перший крок в сторону великого\, довгого шляху. Ніхто не обіцяє\, що цей шлях буде легким. Вас чекає багато серйозних\, але цікавих випробувань\, життєвих уроків\, багато нових перемог. І все це Ваше життя! Приймайте його гідно і будьте щасливі!
URL:http://sait.vntu.edu.ua/uk/event/%d0%b2%d1%80%d1%83%d1%87%d0%b5%d0%bd%d0%bd%d1%8f-%d0%b4%d0%b8%d0%bf%d0%bb%d0%be%d0%bc%d1%96%d0%b2-%d0%bc%d0%b0%d0%b3%d1%96%d1%81%d1%82%d1%80%d0%b0%d0%bc-%d1%84%d1%96%d1%96%d1%82%d0%b0-2/
LOCATION:ВНТУ\, Вінниця\, 21000\, Ukraine
CATEGORIES:Димломи
END:VEVENT
END:VCALENDAR