BEGIN:VCALENDAR
VERSION:2.0
PRODID:-//Кафедра САІТ - ECPv6.6.2//NONSGML v1.0//EN
CALSCALE:GREGORIAN
METHOD:PUBLISH
X-WR-CALNAME:Кафедра САІТ
X-ORIGINAL-URL:http://sait.vntu.edu.ua/uk
X-WR-CALDESC:Події для Кафедра САІТ
REFRESH-INTERVAL;VALUE=DURATION:PT1H
X-Robots-Tag:noindex
X-PUBLISHED-TTL:PT1H
BEGIN:VTIMEZONE
TZID:Europe/Kiev
BEGIN:DAYLIGHT
TZOFFSETFROM:+0200
TZOFFSETTO:+0300
TZNAME:EEST
DTSTART:20200329T010000
END:DAYLIGHT
BEGIN:STANDARD
TZOFFSETFROM:+0300
TZOFFSETTO:+0200
TZNAME:EET
DTSTART:20201025T010000
END:STANDARD
BEGIN:DAYLIGHT
TZOFFSETFROM:+0200
TZOFFSETTO:+0300
TZNAME:EEST
DTSTART:20210328T010000
END:DAYLIGHT
BEGIN:STANDARD
TZOFFSETFROM:+0300
TZOFFSETTO:+0200
TZNAME:EET
DTSTART:20211031T010000
END:STANDARD
BEGIN:DAYLIGHT
TZOFFSETFROM:+0200
TZOFFSETTO:+0300
TZNAME:EEST
DTSTART:20220327T010000
END:DAYLIGHT
BEGIN:STANDARD
TZOFFSETFROM:+0300
TZOFFSETTO:+0200
TZNAME:EET
DTSTART:20221030T010000
END:STANDARD
END:VTIMEZONE
BEGIN:VEVENT
DTSTART;TZID=Europe/Kiev:20220119T000000
DTEND;TZID=Europe/Kiev:20220119T235959
DTSTAMP:20260422T043630
CREATED:20230228T105857Z
LAST-MODIFIED:20230228T105857Z
UID:13500-1642550400-1642636799@sait.vntu.edu.ua
SUMMARY:Вручення дипломів магістрам ФІІТА
DESCRIPTION:Сьогодні\, 19 січня 2022 року\, на факультеті ФІІТА відбулося урочисте вручення дипломів магістрам.Вітальне слово випускники почули від ректора ВНТУ\, доктора наук\, професора Віктора Біліченка\, декана факультету Володимира Севастьянова.  Випускники! Сьогодні\, ви робите перший крок в сторону великого\, довгого шляху. Ніхто не обіцяє\, що цей шлях буде легким. Вас чекає багато серйозних\, але цікавих випробувань\, життєвих уроків\, багато нових перемог. І все це Ваше життя! Приймайте його гідно і будьте щасливі!
URL:http://sait.vntu.edu.ua/uk/event/%d0%b2%d1%80%d1%83%d1%87%d0%b5%d0%bd%d0%bd%d1%8f-%d0%b4%d0%b8%d0%bf%d0%bb%d0%be%d0%bc%d1%96%d0%b2-%d0%bc%d0%b0%d0%b3%d1%96%d1%81%d1%82%d1%80%d0%b0%d0%bc-%d1%84%d1%96%d1%96%d1%82%d0%b0-2/
LOCATION:ВНТУ\, Вінниця\, 21000\, Ukraine
CATEGORIES:Димломи
END:VEVENT
BEGIN:VEVENT
DTSTART;TZID=Europe/Kiev:20211213T000000
DTEND;TZID=Europe/Kiev:20211213T235959
DTSTAMP:20260422T043630
CREATED:20230228T105921Z
LAST-MODIFIED:20230228T105921Z
UID:13508-1639353600-1639439999@sait.vntu.edu.ua
SUMMARY:Спільний договір з укр.предстаником Sigfox у сфері ІоТ
DESCRIPTION:відбулась зустріч директора компанії «УТІЛІКС.УАН»\, яка є оператором французької компанії Sigfox в Україні ( Sigfox Ukraine )\, Дмитра Озерова з ректором Вінницького національного технічного університету (ВНТУ) Віктор Біліченко  у межах Меморандуму про співпрацю\, підписаного обома сторонами 22-26 листопада 2021 року. У зустрічі взяли участь\, також\, декан факультету комп’ютерних систем і автоматики (з 1 січня матиме назву: інтелектуальних інформаційних технологій та автоматизації) ВНТУ Володимир Севастьянов та завідувач кафедри системного аналізу та інформаційних технологій (САІТ) цього факультету Віталій Мокін\, який і організував цю зустріч. Компанія Sigfox є одним зі світових лідерів у сфері Інтернет речей та смарт-технологій. Її рішення впроваджені у 75 країнах світу\, до їх мережі підключено біля 20 млн. пристроїв. З 2021 року розпочалось встановлення вишок-базових станцій Sigfox і в Україні і ними вже охоплена територія\, де проживає 10 млн. людей\, у т.ч. є станція і у Вінниці. Існує багато прикладів використанням їх пристроїв: дистанційне збирання даних про споживання комунальних ресурсів (лічильники на воду\, світло тощо)\, моніторинг пожежних гідрантів\, моніторинг та обслуговування вуличного освітлення\, дані про цілісність інженерної інфраструктури\, інформування про розташування доступних паркомісць\, спрощення авторизації для паркування\, стеження за локаціями орендних велосипедів\, відстеження робочого стану медичних пристроїв\, моніторинг якості повітря та стану вод і ґрунтів\, оптимізація маршрутів збирання сміття\, у будівельній сфері (відстеження застигання бетону)\, в агросекторі\, контроль збереження продуктів харчування тощо.\nНа кафедру системного аналізу та інформаційних технологій ВНТУ передано унікальне обладнання Sigfox\, у т.ч. станцію для розгортання мережі у ВНТУ\, сенсори\, мікроконтролери\, розумні пристрої. На базі ФКСА (ФІІТА) формується робоча група\, яка займеться опануванням роботи з цим обладнанням. З часом\, до неї зможуть приєднатись представники й інших факультетів. На першому етапі планується впровадити це обладнання у навчальний процес для студентів та аспірантів. На другому\, за ініціативи ректора\, планується реалізація пілотного проєкту із встановлення розумних лічильників комунальних послуг ВНТУ з метою оптимізації енергоспоживання. На третьому етапі студенти та викладачі університету зможуть розробляти і впроваджувати свої рішення на базі Sigfox вже не у навчальних цілях\, а у реальному секторі економіки – такий напрямок та умови співпраці також піднімались на цій зустрічі.\nВажливо\, що ВНТУ є першим закладом вищої освіти в Україні\, який підписав Меморандум із компанією «УТІЛІКС.УАН» для впровадженням технологій Sigfox для Інтернету речей та смарт-рішень. Саме за такими технологіями – майбутнє!
URL:http://sait.vntu.edu.ua/uk/event/%d1%81%d0%bf%d1%96%d0%bb%d1%8c%d0%bd%d0%b8%d0%b9-%d0%b4%d0%be%d0%b3%d0%be%d0%b2%d1%96%d1%80-%d0%b7-%d1%83%d0%ba%d1%80-%d0%bf%d1%80%d0%b5%d0%b4%d1%81%d1%82%d0%b0%d0%bd%d0%b8%d0%ba%d0%be%d0%bc-sigfox-2/
LOCATION:ВНТУ\, Вінниця\, 21000\, Ukraine
CATEGORIES:Семінар з роботодавцями
END:VEVENT
BEGIN:VEVENT
DTSTART;TZID=Europe/Kiev:20211209T083000
DTEND;TZID=Europe/Kiev:20211209T120000
DTSTAMP:20260422T043630
CREATED:20230228T105924Z
LAST-MODIFIED:20230503T183400Z
UID:13510-1639038600-1639051200@sait.vntu.edu.ua
SUMMARY:V Ідеатон "Системний аналіз ІТ-рішень"-2021.
DESCRIPTION:V Ідеатон “Системний аналіз ІТ-рішень”- 9.12.2021 р.Традиційно на початку грудня 2021 року на кафедрі системного аналізу та інформаційних технологій (САІТ) (http://mmss.vntu.edu.ua/index.php/ua/) Факультету комп’ютерних систем і автоматики ВНТУ пройшов Ідеатон “Системний аналіз ІТ-рішень” для студентів 1-го курсу зі спеціальностей 124 – “Системний аналіз” та 126 – “Інформаційні системи та технології” (освітня програма “Прикладні ІТ”). Попередні аналогічні змагання першокурсників кафедри САІТ відбулись\, відповідно\, у 2016-2020 роках.Участь взяли 12 команд у складі до 5 осіб включно\, які між собою розділили ролі “ІТ-менеджер”\, “Системний архітектор”\, “Системний аналітик”\, “Програміст” і “Дизайнер” (дехто їх поєднав в собі). Кожна команда придумала цікаве ІТ-рішення у різних сферах: туризм\, екотуризм\, вирішення деяких проблем із студентського життя\, ігрові способи навчання програмуванню\, поліпшення стану довкілля жителів міста\, приготування їжі\, розвиток технологій соцмереж\, використання кріптовалют\, оптимізація керування фермою чи сільгоспвиробництвом та ін.Студенти проаналізували сучасні аналоги\, виявили їх недоліки\, запропонували свої власні рішення у сфері автоматизації обробки даних з використанням сучасних ІТ та технічних засобів\, які їх можуть доповнити. Значну увагу більшість команд приділили розробці можливого інтерфейсу програмних\, у т.ч. мобільних\, додатків\, цільовій групі користувачів та ін. Були розроблені концептуальні UML-діаграми варіантів використання. Декілька команд спроєктували і нарисували власні логотипи та запропонували своє бачення інтерфейсів майбутніх продуктів.Усі члени команди були співдоповідачами\, активно відповідали на питання. Не все було ідеально у деяких проектах\, що й вплинуло на їх диференціацію\, хоча роботи\, що посіли 3 і 4 місця\, набрали практично однакову кількість балів.Пропорційно зайнятому місцю та своїй ролі у проекті усі учасники отримали оцінку з дисципліни «Вступ до фаху» (лектор – доц. Andrey Yascholt)\, для обох груп 2ІСТ-20б та СА-20б кафедри САІТ. Головою журі був я (професор\, д.т.н.\, зав. кафедри САІТ ВНТУ Мокін В.Б. – ідеолог цього конкурсу)\, а членами – Team Leader ІТ-підприємства НВП «Спільна справа»\, PhD Володимир Сторчак зі спеціальності 126\, доцент PhD Andrey Yascholt (основний організатор змагання у цьому році)\, викладач Misha Dratovany та аспіранти каф. САІТ зі спеціальності 126 Гораш М.А. та зі спеціальності 124 Ольга Войцеховская.Команди\, які посіли перші 3 місця:1 місце – цього року посіли одразу дві Команди «Firecatch» та «Challenger» – студенти спеціальності 124 (освітня програма «Системний аналіз»)2 місце – Команда «XpPeople» – студенти спеціальності 126 (Прикладні ІТ)3 місце – Команда «CryptoUnion» – студенти спеціальності 126 (Прикладні ІТ)Також\, студентам запропоновано виготовити банери з викладенням свого рішення\, які будуть згодом розміщені у спеціалізованому кабінеті з сучасних інформаційних технологій (ауд. 7212) кафедри САІТ\, де традиційно проходили ці Ідеатони у докарантинний період і де в минулому 9 разів підряд розпочинався фінал щорічної Всеукраїнської олімпіади з програмування АСМ.В подальшому учасникам буде запропоновано подати тези на наукову конференцію студентів і викладачів\, яку ФКСА ВНТУ буде проводити у березні 2022 році. А згодом\, вони можуть доопрацювати свої проєкти\, з урахуванням зауважень та ідей\, які висловлювали члени журі у процесі обговорення проєктів конкурсу\, а також з урахуванням напрацювань у багатьох студентських наукових гуртках кафедри САІТ\, та взяти участь вже у міських\, республіканських та міжнародних конкурсах (ідеатонах\, хакатонах тощо)\, а також – удосконалити свої навички у школі стартапів імені Сікорського при ФКСА ВНТУ.
URL:http://sait.vntu.edu.ua/uk/event/vi-%d1%96%d0%b4%d0%b5%d0%b0%d1%82%d0%be%d0%bd-%d1%81%d0%b8%d1%81%d1%82%d0%b5%d0%bc%d0%bd%d0%b8%d0%b9-%d0%b0%d0%bd%d0%b0%d0%bb%d1%96%d0%b7-%d1%96%d1%82-%d1%80%d1%96%d1%88%d0%b5%d0%bd%d1%8c-2021/
LOCATION:Google Meet
CATEGORIES:Конкурс
END:VEVENT
BEGIN:VEVENT
DTSTART;TZID=Europe/Kiev:20210623T000000
DTEND;TZID=Europe/Kiev:20210624T235959
DTSTAMP:20260422T043630
CREATED:20230228T110023Z
LAST-MODIFIED:20230228T110023Z
UID:13519-1624406400-1624579199@sait.vntu.edu.ua
SUMMARY:Захист бакалаврських дипломних робіт студентами спеціальності 126 (ОП "Прикладні ІТ") кафедри САІТ
DESCRIPTION:На кафедрі САІТ ФКСА ВНТУ у Google Meet у червні 2021 року вперше відбувся захист бакалаврських дипломних робіт із нещодавно акредитованої освітньої програми «Прикладні інформаційні технології» спеціальності 126 «Інформаційні системи та технології». Спеціальність була започаткована у 2017 році\, тому цей випуск був першим.Відповідно до особливостей освітньої програми\, у бакалаврських роботах поєднувались фахові знання та вміння створювати програмні продукти із застосуванням прикладних інформаційних технологій\, у тому числі інтелектуальних технологій аналізу даних\, сучасних технологій веб-розроблення\, програмування мобільних пристроїв\, геоінформаційного аналізу даних. У кожній роботі був мінімум один вид таких технологій. Найбільше було робіт із застосуванням чи розвитком інтелектуальних технологій.\nУсі роботи були присвячені розв’язанню прикладних задач за реальними даними: розпізнавання зображень у малих датасетах з використанням Deep Learning\, прогнозування курсу криптовалют\, у медичній сфері (прогнозування кількості нових хворих чи госпіталізованих в Україні в цілому чи в окремих областях зокрема)\, в екології (NLP-технології аналізу україномовного та англомовного тексту про стан довкілля\, автоматизована геоприв’язка текстових даних\, прогнозування якості води у річці)\, створення інформаційної системи Інтернет-магазину. Два студенти розробляли комплексну дипломну роботу\, яка була присвячена розробці інформаційної аналітичної панелі (дашбоарду) захворюваності на коронавірус в Європі.\nДеякі роботи виконувались на замовлення ІТ-компаній міста Вінниці\, басейнової ради Південного Бугу\, Робочої групи з математичного моделювання проблем\, пов’язаних з епідемією коронавірусу SARS-CoV-2 в Україні\, яка регулярно готує аналітику для РНБО України та інших установ та інституцій.\nНа захисті студенти продемонстрували\, що мають досить високу теоретичну підготовку та володіння практичними навичками використання інформаційних технологій у різних галузях\, володіють методами математичного аналізу\, засобами оброблення даних\, моделювання та методами наукових та інженерних досліджень.\nЗа результатами досліджень ряд студентів мають публікації та виступи на науково-технічних конференціях\, у т.ч. на міжнародних.\nКерівниками бакалаврських дипломних робіт виступили штатні співробітники кафедри САІТ. Головою екзаменаційної комісії був Sergey Oleynik  – директор ТОВ “Аналітика”\, відомої в усьому світі своїми потужними аналітичними інформаційними системами\, передусім з використанням геоінформаційних технологій.\nВсі роботи успішно пройшли рецензування та перевірку на плагіат. Найкращі випускники зараз претендують на вступ до магістратури кафедри САІТ з цієї ж спеціальності 126 Інформаційні системи та технології\, на акредитовану освітню програму «Інформаційні технології аналізу даних та зображень».
URL:http://sait.vntu.edu.ua/uk/event/%d0%b7%d0%b0%d1%85%d0%b8%d1%81%d1%82-%d0%b1%d0%b0%d0%ba%d0%b0%d0%bb%d0%b0%d0%b2%d1%80%d1%81%d1%8c%d0%ba%d0%b8%d1%85-%d0%b4%d0%b8%d0%bf%d0%bb%d0%be%d0%bc%d0%bd%d0%b8%d1%85-%d1%80%d0%be%d0%b1%d1%96-8/
LOCATION:Google Meet
CATEGORIES:Захисти
END:VEVENT
BEGIN:VEVENT
DTSTART;TZID=Europe/Kiev:20210615T000000
DTEND;TZID=Europe/Kiev:20210616T235959
DTSTAMP:20260422T043630
CREATED:20230228T110020Z
LAST-MODIFIED:20230228T110020Z
UID:13518-1623715200-1623887999@sait.vntu.edu.ua
SUMMARY:Захист бакалаврських дипломних робіт студентами спеціальності 124 (ОП "Системний аналіз") кафедри САІТ
DESCRIPTION:У червні 2021 року на кафедрі САІТ ФКСА ВНТУ у Google Meet відбувся захист бакалаврських дипломних робіт з акредитованої освітньої програми «Системний аналіз» спеціальності 124 «Системний аналіз». Це – вже 3-й випуск саме зі спеціальності 124 (нагадую\, що саме у ВНТУ був перший в Україні випуск бакалаврів з 124 – ще у 2019 р.).Роботи були присвячені застосуванню методів системного аналізу та розробці аналітичних інформаційних систем\, систем і програм з використанням технологій штучного інтелекту\, сучасних баз даних\, веб-технологій та ГІС-технологій. Більшість робіт були науково-дослідними та прикладними і були присвячені важливим проблемам\, пов’язаним з розробленням та застосуванням інформаційних технологій для вирішення прикладних задач системного аналізу: у банківській сфері\, у сфері торгівлі\, у сфері фондового ринку\, у сфері прогнозування якості води у річці та якості атмосферного повітря у місті\, прогнозування вартості авто. Усі роботи використовували реальні дані.\nОдна робота виконувалась в межах НДР\, яку виконувала кафедра САІТ за результатами виграного викладачами тендеру з розроблення Програми державного моніторингу в галузі охорони атмосферного повітря агломерації Вінниця на 2021-2025 роки. Три роботи були виконані на замовлення басейнової ради Південного Бугу.\nНа захисті студенти продемонстрували\, що мають досить високу теоретичну підготовку та володіння практичними навичками використання інформаційних технологій у різних галузях\, володіють методами математичного аналізу\, оптимізації та прийняття рішень та засобами оброблення даних\, моделювання та методами наукових та інженерних досліджень.\nКерівниками бакалаврських дипломних робіт виступили штатні співробітники кафедри САІТ. Головою екзаменаційної комісії був Sergey Oleynik – директор ТОВ “Аналітика”\, відомої в усьому світі своїми потужними аналітичними інформаційними системами\, передусім з використанням геоінформаційних технологій.\nВсі роботи успішно пройшли рецензування та перевірку на плагіат. Найкращі випускники зараз претендують на вступ до магістратури кафедри САІТ.
URL:http://sait.vntu.edu.ua/uk/event/%d0%b7%d0%b0%d1%85%d0%b8%d1%81%d1%82-%d0%b1%d0%b0%d0%ba%d0%b0%d0%bb%d0%b0%d0%b2%d1%80%d1%81%d1%8c%d0%ba%d0%b8%d1%85-%d0%b4%d0%b8%d0%bf%d0%bb%d0%be%d0%bc%d0%bd%d0%b8%d1%85-%d1%80%d0%be%d0%b1%d1%96-7/
LOCATION:Google Meet
CATEGORIES:Захисти
END:VEVENT
BEGIN:VEVENT
DTSTART;TZID=Europe/Kiev:20201217T000000
DTEND;TZID=Europe/Kiev:20201217T235959
DTSTAMP:20260422T043630
CREATED:20230228T110030Z
LAST-MODIFIED:20230503T183703Z
UID:13523-1608163200-1608249599@sait.vntu.edu.ua
SUMMARY:IV Ідеатон "Системний аналіз ІТ-рішень"
DESCRIPTION:Сьогодні 17 грудня 2020 року на кафедрі САІТ пройшов IV Ідеатон “Системний аналіз ІТ-рішень”. Захід проводився для студентів 1-го курсу спеціальностей 124 і 126 («Прикладні ІТ»). Голова журі – завідувач кафедри САІТ Мокін В. Б.: члени журі – інші провідні датасайнтисти кафедри САІТ та не тільки з ВНТУ”\, Доволі цікавими виявились тематики\, які обрали студенти. У роботах студентів знайшлось місце і застосуванню технологій штучного інтелекту та машинного навчання ГІС- та GPS-технологій\, використанню мов Python\, React\, JavaScript тощо для розв’язання важливих задач у різних сферах – інформаційна система для розпізнавання людей без масок\, Вінниця для туристів\, система моніторингу оптимальної ціни на продукти у поширених мережах супермаркетів\, розумна тарілка для тварин\, електронний помічник\, персональний куратор\, smart окуляри тощо.Усі роботи були представлені на рівні ідеї з максимально детальним пропрацюванням структури та архітектури систем.Члени журі відзначали гарні доповіді та ідеї команд.
URL:http://sait.vntu.edu.ua/uk/event/5-%d0%b9-%d1%96%d0%b4%d0%b5%d0%b0%d1%82%d0%be%d0%bd-%d1%81%d0%b8%d1%81%d1%82%d0%b5%d0%bc%d0%bd%d0%b8%d0%b9-%d0%b0%d0%bd%d0%b0%d0%bb%d1%96%d0%b7-%d1%96%d1%82-%d1%80%d1%96%d1%88%d0%b5%d0%bd%d1%8c/
LOCATION:Google Meet
CATEGORIES:Конкурс
ATTACH;FMTTYPE=image/jpeg:https://sait.vntu.edu.ua/wp-content/uploads/2023/02/131982772_2846408508963694_3370454093001223482_n-WwvGHB.tmp_.jpg
END:VEVENT
BEGIN:VEVENT
DTSTART;TZID=Europe/Kiev:20201209T141500
DTEND;TZID=Europe/Kiev:20201209T160000
DTSTAMP:20260422T043630
CREATED:20230228T110051Z
LAST-MODIFIED:20230228T110051Z
UID:13526-1607523300-1607529600@sait.vntu.edu.ua
SUMMARY:Захист магістерських кваліфікаційних робіт зі спеціальності 126 Інформаційні системи та технології
DESCRIPTION:Сьогодні завершились захисти магістерських кваліфікаційних робіт студентів групи 2ІСТ-19м спеціальності 126 Інформаційні системи та технології (випускова кафедра – системного аналізу та інформаційних технологій ФКСА ВНТУ). Голова ДЕК – директор ТОВ «Аналітика» Сергій Олійник.Роботи були присвячені застосуванню технологій штучного інтелекту та машинного навчання\, аналізу часових рядів\, інтернету речей\, ГІС- та GPS-технологій\, технологій програмування\, у т.ч. веб-програмування\, використанню мов Python\, Java\, C# тощо для розв’язання важливих задач у різних сферах – управління ІТ-проєктами\, моніторингу та оптимізації пасажирських автоперевезень\, прогнозування продаж\, пошуку можливих джерел підвищеного забруднення річки\, аналізу та передбачення опадів\, рекомендування кінофільмів для глядачів\, прогнозування енергоспоживання електрообладнання. Керівниками робіт були професори і доценти кафедри\, у т.ч. я (д.т.н.\, проф.\, Kaggle Grandmaster)\, д.т.н.\, проф.\, Kaggle Master Олександр Мокін\, доц.\, к.т.н. Евгеній Крижановський\, доц.\, к.т.н. Олексій Козачко та ін.\nРоботи використовували як реальні дані Державної системи моніторингу вод та Державної метеорологічної мережі\, так і гіпотетичні дані\, але за реальною структурою та реальними прикладами щодо їх формату\, тобто усі роботи\, після деякого адаптування\, можуть бути реально впровадженими і дати цікаві та корисні результати.\nУсі студенти є авторами наукових праць\, а двоє ще й є авторами статей\, поданих чи прийнятих до друку у науковому фаховому виданні України з їх же спеціальності 126. Один з випускників планує в наступному році поступати в аспірантуру\, дехто з інших теж отримав таку рекомендацію\, але ще взяв час обдумати це рішення.\nЧлени комісії відзначали високий рівень готовності робіт\, гарні доповіді та відповіді на питання. Усі роботи успішно пройшли перевірку на плагіат та завчасно\, до захисту\, опубліковані у системі JetIQ ВНТУ. Тому більшість робіт були оцінені на оцінку «відмінно».\nУ засіданні взяли участь й студенти 3-го та 4-го курсів та магістратури 1-го року підготовки цієї ж спеціальності з освітніх програм «Прикладні інформаційні технології» (бакалаврат) та «Інформаційні технології аналізу даних та зображень» нашої кафедри САІТ.
URL:http://sait.vntu.edu.ua/uk/event/%d0%b7%d0%b0%d1%85%d0%b8%d1%81%d1%82-%d0%bc%d0%b0%d0%b3%d1%96%d1%81%d1%82%d0%b5%d1%80%d1%81%d1%8c%d0%ba%d0%b8%d1%85-%d0%ba%d0%b2%d0%b0%d0%bb%d1%96%d1%84%d1%96%d0%ba%d0%b0%d1%86%d1%96%d0%b9%d0%bd%d0%b8/
LOCATION:Google Meet
CATEGORIES:Захисти
ATTACH;FMTTYPE=image/jpeg:https://sait.vntu.edu.ua/wp-content/uploads/2023/02/130870641_3164734183752805_7777928416382880887_n-mSg3h6.tmp_.jpg
END:VEVENT
END:VCALENDAR