BEGIN:VCALENDAR
VERSION:2.0
PRODID:-//Кафедра САІТ - ECPv6.6.2//NONSGML v1.0//EN
CALSCALE:GREGORIAN
METHOD:PUBLISH
X-WR-CALNAME:Кафедра САІТ
X-ORIGINAL-URL:http://sait.vntu.edu.ua/uk
X-WR-CALDESC:Події для Кафедра САІТ
REFRESH-INTERVAL;VALUE=DURATION:PT1H
X-Robots-Tag:noindex
X-PUBLISHED-TTL:PT1H
BEGIN:VTIMEZONE
TZID:Europe/Kiev
BEGIN:DAYLIGHT
TZOFFSETFROM:+0200
TZOFFSETTO:+0300
TZNAME:EEST
DTSTART:20170326T010000
END:DAYLIGHT
BEGIN:STANDARD
TZOFFSETFROM:+0300
TZOFFSETTO:+0200
TZNAME:EET
DTSTART:20171029T010000
END:STANDARD
BEGIN:DAYLIGHT
TZOFFSETFROM:+0200
TZOFFSETTO:+0300
TZNAME:EEST
DTSTART:20180325T010000
END:DAYLIGHT
BEGIN:STANDARD
TZOFFSETFROM:+0300
TZOFFSETTO:+0200
TZNAME:EET
DTSTART:20181028T010000
END:STANDARD
END:VTIMEZONE
BEGIN:VEVENT
DTSTART;TZID=Europe/Kiev:20180227T000000
DTEND;TZID=Europe/Kiev:20180227T235959
DTSTAMP:20260420T105745
CREATED:20230228T110253Z
LAST-MODIFIED:20230228T110253Z
UID:13578-1519689600-1519775999@sait.vntu.edu.ua
SUMMARY:Європейські інженерні змагання (EBEC Challenge)
DESCRIPTION:У Вінницькому національному технічному університету тривають Європейські інженерні змагання (EBEC Challenge)\, які проводить міжнародна студентська організація Board of European Students of Technology (BEST). У перший день змагання (27 лютого) усі 19 команд розв’язували задачу\, яку придумав доцент кафедри Системного аналізу\, комп’ютерного моніторингу та інженерної графіки ФКСА ВНТУ Андрій Ящолт по розробці робота-помічника для готелів. У змаганнях беруть і студенти спеціальностей ФКСА ВНТУ. Одним із організаторів є Олександр Радецький – староста групи зі спеціальності 126 – Інформаційні системи та технології (спеціалізація “Прикладні інформаційні технології”).
URL:http://sait.vntu.edu.ua/uk/event/%d1%94%d0%b2%d1%80%d0%be%d0%bf%d0%b5%d0%b9%d1%81%d1%8c%d0%ba%d1%96-%d1%96%d0%bd%d0%b6%d0%b5%d0%bd%d0%b5%d1%80%d0%bd%d1%96-%d0%b7%d0%bc%d0%b0%d0%b3%d0%b0%d0%bd%d0%bd%d1%8f-ebec-challenge/
LOCATION:ВНТУ\, Вінниця\, 21000\, Ukraine
CATEGORIES:Конкурс
ATTACH;FMTTYPE=image/jpeg:https://sait.vntu.edu.ua/wp-content/uploads/2023/02/28337204_1775778369140596_8001763584648028476_o-IoewZZ.tmp_.jpg
END:VEVENT
BEGIN:VEVENT
DTSTART;TZID=Europe/Kiev:20180122T000000
DTEND;TZID=Europe/Kiev:20180122T235959
DTSTAMP:20260420T105745
CREATED:20230228T110256Z
LAST-MODIFIED:20230228T110256Z
UID:13580-1516579200-1516665599@sait.vntu.edu.ua
SUMMARY:Захист магістерських кваліфікаційних робіт зі спеціальності 122
DESCRIPTION:Сьогодні на кафедрі системного аналізу\, комп’ютерного моніторингу та інженерної графіки Факультету комп’ютерних систем і автоматики ВНТУ востаннє пройшов захист магістерських кваліфікаційних робіт зі спеціальності 122 – «Комп’ютерні науки та інформаційні технології». В наступному році захист буде вже зі спеціальності 126 – «Інформаційні системи та технології».Роботи були присвячені питанням створення аналітичних комп’ютерних систем та розробці інформаційних технологій обробки даних у сфері еколого-економічного імітаційного моделювання та прийняття рішень\, медичної діагностики\, екологічного моніторингу\, природокористування\, обліку просторових об’єктів комунальної власності.\nВ усіх роботах були створені аналітичні веб-системи\, які реально впроваджені у роботі урядових систем (окремі елементи програм та алгоритми) України\, у Вінницькій міськраді та у Вінницькому національному технічному університеті.\nСтуденти демонстрували роботу створених систем на реальних даних. Один зі студентів (Богдан Гордієнко\, науковий керівник – к.т.н.\, доц. Олексій Козачко\, консультант – к.т.н.\, доц. Георгій Горячев)  розробив додатки для смартфону iOS та Android для моніторингу самопочуття людини за допомогою мобільних пристроїв разом із фіксуванням метеоданих для їх подальшого комплексного аналізу. Голова ДЕК к.т.н.\, директор ТОВ «GPS Transport Control» Андрій Поджаренко забажав перевірити на собі працездатність створеного студентом додатку. Студент тут же начепив йому один із медичних браслетів і одразу продемонстрував розробку в дії.\nВже з минулого року активно використовується у навчальному процесі система\, яку створив Максим Коханський (науковий керівник – к.т.н.\, доц. Мирослав Боцула) система накопичення та пошуку посилань на набори відкритих даних http://isodata.mmss.vntu.edu.ua/. За результатами дослідження опублікована стаття у науковому фаховому виданні (https://visnyk.vntu.edu.ua/index…/visnyk/article/view/2013). Також\, в навчальному процесі з минулого року використовується створена Олександром Криликом (науковий керівник – д.т.н.\, проф.\, зав. каф. САКМІГ Віталій Мокін) комп’ютерна програма “Еколого-економічне управління регіоном” (імітаційна система у вигляді комп’ютерної гри типу «Стратегія»\, яка дозволяє налаштовувати свої математичні моделі процесів у регіоні\, умовні позначення просторових об’єктів\, до яких вони прив’язані\, задавати різні налаштування і\, навіть\, ставить оцінку користувачам (наприклад\, студентам) по 5-бальній системі\, в залежності від набраних балів і нарахованих штрафів). На програму отримано свідоцтво про реєстрацію авторського права на твір. Робота цього ж студента торік посіла призове місце у ІІ турі Всеукраїнського конкурсу наукових праць із напрямку «Інформатика\, обчислювальна техніка та автоматизація».\nСтуденти були виконавцями науково-дослідних робіт ВНТУ (за оплату). Усі роботи мають наукову новизну. Усі студенти мають наукові публікації. Четверо із них планують продовжити навчання в аспірантурі кафедри САКМІГ зі спеціальностей 126 та 124 – «Системний аналіз».\nНезабаром\, у лютому почнеться набір нових студентів до магістратури на спеціальність 126 кафедри САКМІГ на основі диплому бакалавра заочної форми навчання.
URL:http://sait.vntu.edu.ua/uk/event/%d0%b7%d0%b0%d1%85%d0%b8%d1%81%d1%82-%d0%bc%d0%b0%d0%b3%d1%96%d1%81%d1%82%d0%b5%d1%80%d1%81%d1%8c%d0%ba%d0%b8%d1%85-%d0%ba%d0%b2%d0%b0%d0%bb%d1%96%d1%84%d1%96%d0%ba%d0%b0%d1%86%d1%96%d0%b9%d0%bd-3/
CATEGORIES:Захисти
ATTACH;FMTTYPE=image/jpeg:https://sait.vntu.edu.ua/wp-content/uploads/2023/02/27173299_2282454408647458_55790580340762922_o-jvqIVn.tmp_.jpg
END:VEVENT
BEGIN:VEVENT
DTSTART;TZID=Europe/Kiev:20171205T000000
DTEND;TZID=Europe/Kiev:20171205T235959
DTSTAMP:20260420T105745
CREATED:20230228T110259Z
LAST-MODIFIED:20230228T110259Z
UID:13582-1512432000-1512518399@sait.vntu.edu.ua
SUMMARY:II Ідеатон "Системний аналіз ІТ-рішень"
DESCRIPTION:Сьогодні на кафедрі системного аналізу\, комп’ютерного моніторингу та інженерної графіки Факультету комп’ютерних систем і автоматики ВНТУ вдруге пройшов Ідеатон “Системний аналіз ІТ-рішень” для студентів 1-го курсу зі спеціальностей 124 – “Системний аналіз” та 126 – “Інформаційні системи та технології” (спеціалізація “Прикладні ІТ”). Участь взяли 5 команд у складі не більше 4 осіб\, які між собою розділили ролі “ІТ-менеджер”\, “Системний архітектор”\, “Програміст” і “Дизайнер” (дехто їх поєднав в собі). Кожна команда придумала цікаве ІТ-рішення – у сфері громадського транспорту\, медичної допомоги\, благоустрою жителів м. Вінниці\, економічній сфері та сфері найму на роботу. Студенти проаналізували сучасні аналоги\, виявили їх недоліки\, запропонували свої власні рішення у сфері автоматизації обробки даних з використанням сучасних ІТ та технічних засобів\, які їх можуть доповнити. Значну увагу більшість команд приділили розробці можливого інтерфейсу програмних\, у т.ч. мобільних\, додатків\, використанню ГІС-технологій (карт Google Maps) тощо. Було розроблено концептуальну UML-діаграму варіантів використання та схему взаємодії членів команди з різними «ролями». Більшість команд продумали як виходити на ринок та де брати на це кошти. Усі члени команди були співдоповідачами\, активно відповідали на питання. Не все було ідеально у деяких проектах\, що й вплинуло на їх диференціацію\, хоча роботи\, що посіли 1 і 2 місця\, набрали практично однакову кількість балів і долю вирішило вже тільки те\, як команди відповідали на питання. Пропорційно зайнятому місцю та своїй ролі у проекті усі учасники отримали оцінку з дисципліни «Вступ до фаху» для обох груп 2ІСТ-17б та СА-17б кафедри САКМІГ.Членами журі були професор\, д.т.н. зі спеціальності 126\, голова проектної групи з магістратури з цієї спеціальності у ВНТУ Мокін В.Б.\, к.т.н. зі спеціальності 126\, доцент Ящолт А.Р. та аспіранти кафедри САКМІГ 2-го року навчання зі спеціальності 124 Дратований М.В.і  Довгополюк С.О.\nВ подальшому учасникам буде запропоновано подати тези на наукову конференцію студентів і викладачів\, яку ФКСА ВНТУ буде проводити у березні 2018 року. А згодом вони можуть доопрацювати свої проекти\, з урахуванням зауважень та ідей\, які висловлювали члени журі у процесі обговорення проектів конкурсу\, та взяти участь вже у міських\, республіканських та міжнародних конкурсах (ідеатонах\, хакатонах тощо).
URL:http://sait.vntu.edu.ua/uk/event/ii-%d1%96%d0%b4%d0%b5%d0%b0%d1%82%d0%be%d0%bd-%d1%81%d0%b8%d1%81%d1%82%d0%b5%d0%bc%d0%bd%d0%b8%d0%b9-%d0%b0%d0%bd%d0%b0%d0%bb%d1%96%d0%b7-%d1%96%d1%82-%d1%80%d1%96%d1%88%d0%b5%d0%bd%d1%8c/
CATEGORIES:Конкурс
ATTACH;FMTTYPE=image/jpeg:https://sait.vntu.edu.ua/wp-content/uploads/2023/02/24131628_2255935844632648_6478432007536688340_o-10r9vr.tmp_.jpg
END:VEVENT
END:VCALENDAR