BEGIN:VCALENDAR
VERSION:2.0
PRODID:-//Кафедра САІТ - ECPv6.6.2//NONSGML v1.0//EN
CALSCALE:GREGORIAN
METHOD:PUBLISH
X-ORIGINAL-URL:http://sait.vntu.edu.ua/uk
X-WR-CALDESC:Події для Кафедра САІТ
REFRESH-INTERVAL;VALUE=DURATION:PT1H
X-Robots-Tag:noindex
X-PUBLISHED-TTL:PT1H
BEGIN:VTIMEZONE
TZID:Europe/Kiev
BEGIN:DAYLIGHT
TZOFFSETFROM:+0200
TZOFFSETTO:+0300
TZNAME:EEST
DTSTART:20210328T010000
END:DAYLIGHT
BEGIN:STANDARD
TZOFFSETFROM:+0300
TZOFFSETTO:+0200
TZNAME:EET
DTSTART:20211031T010000
END:STANDARD
END:VTIMEZONE
BEGIN:VEVENT
DTSTART;TZID=Europe/Kiev:20211224T000000
DTEND;TZID=Europe/Kiev:20211224T235959
DTSTAMP:20260422T043124
CREATED:20230228T105908Z
LAST-MODIFIED:20230228T105908Z
UID:13503-1640304000-1640390399@sait.vntu.edu.ua
SUMMARY:Підписання тристороннього договору у ВНТУ
DESCRIPTION:ВНТУ стає центром просвітницької діяльності у сфері 3D-моделювання\, комп’ютерної графіки та виготовлення штучних імплантів з титану для людей!Сьогодні ректор Вінницького національного технічного університету Віктор Біліченко зустрівся з Ярославом Головеньком\, Ph.D – директором компанії «3D METAL TECH» (м. Київ) та к.м.н.\, доц. Олексієм Ліхіцьким – директором ПП «Родинний стоматологічний центр» на базі якого розташована лабораторія екто- та ендопротезування (м. Вінниця). Організував зустріч Віталій Мокін – завідувач кафедри системного аналізу та інформаційних технологій ВНТУ\, д.т.н.\, професор. Також у зустрічі взяли участь Олександр Грушко – керівник лабораторного центру ВНТУ спільного користування «BIOART»\, завідувач кафедри опору матеріалів та прикладної механіки\, д.т.н.\, професор\, Ігор Феджага – завідувач відділенням  пухлин голови та шиї Подільського регіонального центру онкології\, к.м.н.\, доцент кафедри променевої діагностики\, променевої терапії та онкології ВНМУ ім. М. І. Пирогова та провідні фахівці з ВНТУ і ПП «Родинний стоматологічний центр».\nКомпанія  «3D METAL TECH» – єдиний в Україні сертифікований виробник індивідуалізованих медичних виробів методом металевого 3D друку із титанового сплаву згідно міжнародного стандарту ISO 13485. Цьогоріч було надруковано 115 таких виробів\, які зробили життя повноцінним\, або й врятували його\, відповідній кількості пацієнтів. Компанія активно співпрацює з рядом регіональних проєктних лабораторій\, у т.ч. у Вінниці – з лабораторією екто- та ендопротезування ПП «Родинний стоматологічний центр». Ця лабораторія має багато унікального обладнання – 3D-сканери\, 3D-принтери\, КТ та ін. і має багаторічний досвід проєктування і виготовлення штучних імплантів. Лабораторія ВНТУ «BIOART» була створена у межах міжнародного проєкту «Інноваційна мультидисциплінарна освітня програма зі штучних імплантів для біо-інженерії для бакалаврів та магістрів» (https://bioart.iucc.ac.il/)\, якою від ВНТУ керував Олександр Грушко. У ній є багато унікального обладнання та працівники\, які об’їздили ряд країн Європи та Азії і володіють сучасним рівнем знань у цій сфері.\nМетою зустрічі було обговорення співпраці щодо проведення спільної навчальної\, наукової та просвітницької діяльності на базі ВНТУ:\n– проведення різних семінарів про можливості сучасних технологій 3D-моделювання та виготовлення штучних імплантів із титану\,\n– проведення практичних тренінгів для лікарів у сфері проєктування імплантів та проведення операцій з ними з використанням сучасних технологій;\n– проведення тренінгів для студентів та викладачів ВНТУ із виготовлення таких 3D-моделей: від сканування обличчя і КТ до виготовлення пластикових\, а потім – титанових\, моделей;\n– проведення конференцій\, спільне заняття наукою та міжнародними проєктами\, відправлення студентів на практику\, можливе працевлаштування тощо.\nВНТУ стане єдиним просвітницьким центром у цій сфері для лікарів Вінницької\, Хмельницької\, Житомирської та Черкаської областей. Саме за такими технологіями – майбутнє і вони дозволять врятувати багато життів або дозволять багатьом людям відновити свою повноцінну діяльність!
URL:http://sait.vntu.edu.ua/uk/event/%d0%bf%d1%96%d0%b4%d0%bf%d0%b8%d1%81%d0%b0%d0%bd%d0%bd%d1%8f-%d1%82%d1%80%d0%b8%d1%81%d1%82%d0%be%d1%80%d0%be%d0%bd%d0%bd%d1%8c%d0%be%d0%b3%d0%be-%d0%b4%d0%be%d0%b3%d0%be%d0%b2%d0%be%d1%80%d1%83-2/
LOCATION:ВНТУ\, Вінниця\, 21000\, Ukraine
CATEGORIES:Семінар з роботодавцями
END:VEVENT
END:VCALENDAR