BEGIN:VCALENDAR
VERSION:2.0
PRODID:-//Кафедра САІТ - ECPv6.6.2//NONSGML v1.0//EN
CALSCALE:GREGORIAN
METHOD:PUBLISH
X-WR-CALNAME:Кафедра САІТ
X-ORIGINAL-URL:http://sait.vntu.edu.ua/uk
X-WR-CALDESC:Події для Кафедра САІТ
REFRESH-INTERVAL;VALUE=DURATION:PT1H
X-Robots-Tag:noindex
X-PUBLISHED-TTL:PT1H
BEGIN:VTIMEZONE
TZID:Europe/Kiev
BEGIN:DAYLIGHT
TZOFFSETFROM:+0200
TZOFFSETTO:+0300
TZNAME:EEST
DTSTART:20220327T010000
END:DAYLIGHT
BEGIN:STANDARD
TZOFFSETFROM:+0300
TZOFFSETTO:+0200
TZNAME:EET
DTSTART:20221030T010000
END:STANDARD
END:VTIMEZONE
BEGIN:VEVENT
DTSTART;TZID=Europe/Kiev:20220208T141500
DTEND;TZID=Europe/Kiev:20220208T160000
DTSTAMP:20260421T163337
CREATED:20230228T105850Z
LAST-MODIFIED:20230228T105850Z
UID:13496-1644329700-1644336000@sait.vntu.edu.ua
SUMMARY:Звітування аспірантів на кафедрі САІТ
DESCRIPTION:8 лютого 2022 року на кафедрі системного аналізу та інформаційних технологій ФІІТА ВНТУ у Google Meet пройшло звітування аспірантів освітньо-наукових програм спеціальностей 124 і 126. Тематика дисертацій – досить різноманітна: сучасні технології машинного і глибокого навчання\, у т.ч. NLP\, NER\, GAN\, розпізнавання зображень\, Інтернет речей\, прогнозування часових рядів\, системний аналіз та моделювання процесів у складних системах\, розроблення аналітичних веб-систем тощо. Науковими керівниками є штатні доктори технічних наук\, професори кафедри САІТ.Кожен із 8 аспірантів звітував за проведену роботу: демонструвалась презентація\, була дана характеристика опублікованих статей у фахових виданнях категорії Б за своєю спеціальністю та тез міжнародних конференцій.\nКожен аспірант охарактеризував свої інноваційні здобутки:\nвийшла в друці стаття у зарубіжному науковому періодичному виданні;\nвзято участь за оплату у виконанні госпдоговірної науково-дослідної роботи (викладачі кафедри виграли тендер) і саме за матеріалами цієї НДР аспірантом була опублікована фахова стаття – він охарактеризував свою роль і в НДР\, і в написанні статті (він робив усі розрахунки та їх автоматизацію);\nвзято участь у написанні розділу звітів з моделювання поширення коронавірусу в Україні\, зокрема\, у прогнозуванні кількості нових хворих – кожні два тижні протягом звітного періоду (звіти викладені на сайті НАН України і переслані в РНБО та ін.\, у тексті звітів прямо вказано ПІБ аспіранта);\nзроблено доповідь у співавторстві на засіданні басейнової ради Південного Бугу з викладенням як розроблена аспірантом 4-го р.н. ІТ допоможе з вирішенням проблем в басейні;\nпроводиться попереднє дослідження щодо вибору апаратної частини та ІТ для моніторингу параметрів довкілля за тематикою дисертації (є підприємство\, з яким у ВНТУ є договір про співпрацю і яке готово фінансувати придбання апаратної частини для експерименту);\nу межах співпраці з Вінницькою міськрадою розроблено готове базове рішення для ідентифікації велосипедистів на зображенні з відеокамер\, яке можна буде випробувати\, коли міськрада надасть доступ до них (така попередня домовленість була досягнута під час візиту аспіранта в Ситуаційний центр міськради);\nрозроблені підходи для автоматичного дешифрування даних аерофотозйомки (у межах договору про співпрацю з ВНТУ з підприємством\, де є філія кафедри САІТ)\, ведеться підготовка до експериментальних досліджень;\nведеться робота з просторового аналізу даних громадського моніторингу атмосферного повітря м. Вінниці та Вінницької області\, наданих у межах договору про співпрацю з ВНТУ;\nдва аспіранти взяли участь у різних змаганнях Kaggle у сфері розпізнавання зображень.\nДо досліджень залучаються\, також\, студенти нашої кафедри. Ведеться робота й з інших напрямів. Цей список – це тільки про дослідження\, де були завершені певні етапи. Частина досліджень – у стані напрацювання. Тим більше\, що\, якщо в аспірантів-контрактників\, які поступили у березні\, це був річний звіт\, то в аспірантів-бюджетників\, які поступили восени\, це був ще тільки звіт за півроку.\nТакож\, аспіранти звітували про отримані сертифікати онлайн-курсів на Coursera. Один аспірант отримав звання Kaggle Notebooks Expert. Усі звіти були затверджені одностайно.\nВ якості спостерігача був запрошений здобувач\, який подав документи на вступ до аспірантури на нашу кафедру\, для набуття корисного досвіду\, який йому знадобиться\, якщо він успішно складе вступні іспити і поступить до нас на навчання.
URL:http://sait.vntu.edu.ua/uk/event/%d0%b7%d0%b2%d1%96%d1%82%d1%83%d0%b2%d0%b0%d0%bd%d0%bd%d1%8f-%d0%b0%d1%81%d0%bf%d1%96%d1%80%d0%b0%d0%bd%d1%82%d1%96%d0%b2-%d0%bd%d0%b0-%d0%ba%d0%b0%d1%84%d0%b5%d0%b4%d1%80%d1%96-%d1%81%d0%b0%d1%96-4/
LOCATION:Google Meet
CATEGORIES:Нарада
END:VEVENT
END:VCALENDAR