BEGIN:VCALENDAR
VERSION:2.0
PRODID:-//Кафедра САІТ - ECPv6.6.2//NONSGML v1.0//EN
CALSCALE:GREGORIAN
METHOD:PUBLISH
X-WR-CALNAME:Кафедра САІТ
X-ORIGINAL-URL:http://sait.vntu.edu.ua/uk
X-WR-CALDESC:Події для Кафедра САІТ
REFRESH-INTERVAL;VALUE=DURATION:PT1H
X-Robots-Tag:noindex
X-PUBLISHED-TTL:PT1H
BEGIN:VTIMEZONE
TZID:Europe/Kiev
BEGIN:DAYLIGHT
TZOFFSETFROM:+0200
TZOFFSETTO:+0300
TZNAME:EEST
DTSTART:20220327T010000
END:DAYLIGHT
BEGIN:STANDARD
TZOFFSETFROM:+0300
TZOFFSETTO:+0200
TZNAME:EET
DTSTART:20221030T010000
END:STANDARD
END:VTIMEZONE
BEGIN:VEVENT
DTSTART;TZID=Europe/Kiev:20220614T000000
DTEND;TZID=Europe/Kiev:20220615T235959
DTSTAMP:20260421T054157
CREATED:20230228T105821Z
LAST-MODIFIED:20230228T105821Z
UID:13487-1655164800-1655337599@sait.vntu.edu.ua
SUMMARY:Захист бакалаврських дипломних робіт студентами спеціальності 124 (ОП "Системний аналіз") кафедри САІТ
DESCRIPTION:14-15 червня 2022 року на кафедрі САІТ ФІІТА ВНТУ у Google Meet відбувся захист бакалаврських дипломних робіт з акредитованої освітньої програми «Системний аналіз» спеціальності 124 Системний аналіз. Це – вже 4-й випуск саме зі спеціальності 124.\nРоботи були присвячені застосуванню методів системного аналізу та розробці аналітичних інформаційних систем\, систем і програм з використанням технологій штучного інтелекту\, сучасних баз даних\, веб-технологій та ГІС-технологій за реальними даними у медичній та соціальній сфері\, екології\, у сфері фінансів і торгівлі.  \nГоловою комісії був Мирослав Боцула – PhD\, CEO відомої ІТ-компанії “EQUALTEAM”. \nОдна робота виконувалась в межах НДР\, яку виконувала кафедра САІТ за результатами виграного викладачами тендеру з розроблення Програми державного моніторингу в галузі охорони атмосферного повітря зони «Вінницька» на 2022-2026 роки.  \nДекілька робіт присвячені прогнозуванню курсу криптовалют. \nНайкращі випускники зараз претендують на вступ до магістратури кафедри САІТ.
URL:http://sait.vntu.edu.ua/uk/event/%d0%b7%d0%b0%d1%85%d0%b8%d1%81%d1%82-%d0%b1%d0%b0%d0%ba%d0%b0%d0%bb%d0%b0%d0%b2%d1%80%d1%81%d1%8c%d0%ba%d0%b8%d1%85-%d0%b4%d0%b8%d0%bf%d0%bb%d0%be%d0%bc%d0%bd%d0%b8%d1%85-%d1%80%d0%be%d0%b1%d1%96-6/
LOCATION:Google Meet
CATEGORIES:Захисти
END:VEVENT
END:VCALENDAR