BEGIN:VCALENDAR
VERSION:2.0
PRODID:-//Кафедра САІТ - ECPv6.6.2//NONSGML v1.0//EN
CALSCALE:GREGORIAN
METHOD:PUBLISH
X-ORIGINAL-URL:http://sait.vntu.edu.ua/uk
X-WR-CALDESC:Події для Кафедра САІТ
REFRESH-INTERVAL;VALUE=DURATION:PT1H
X-Robots-Tag:noindex
X-PUBLISHED-TTL:PT1H
BEGIN:VTIMEZONE
TZID:Europe/Kiev
BEGIN:DAYLIGHT
TZOFFSETFROM:+0200
TZOFFSETTO:+0300
TZNAME:EEST
DTSTART:20230326T010000
END:DAYLIGHT
BEGIN:STANDARD
TZOFFSETFROM:+0300
TZOFFSETTO:+0200
TZNAME:EET
DTSTART:20231029T010000
END:STANDARD
END:VTIMEZONE
BEGIN:VEVENT
DTSTART;TZID=Europe/Kiev:20230321T093000
DTEND;TZID=Europe/Kiev:20230321T130000
DTSTAMP:20260420T141834
CREATED:20230326T133434Z
LAST-MODIFIED:20230326T153207Z
UID:17728-1679391000-1679403600@sait.vntu.edu.ua
SUMMARY:Вчені НДЛ ЕДЕМ взяли участь у міжнародній екологічній конференції у Чехії
DESCRIPTION:Вчені НДЛ ЕДЕМ взяли участь у міжнародній конференції «Екологічні наслідки російської війни в Україні: разом для майбутнього відновлення українського довкілля»\, організованій урядом Чехії та громадськими організаціями і ЗВО з Чехії та України.21 березня 2023 року у дистанційному режимі пройшла міжнародна конференція «Екологічні наслідки російської війни в Україні: разом для майбутнього відновлення українського довкілля»\, організована урядом Чехії спільно з ГО «Арніка» (Прага\, Чехія)\, ГО “Фрі-Ардуїно” (Івано-Франківськ\, Україна) та мережею громадського моніторингу стану атмосферного повітря України “EcoCity”. \n\n\n\nПрограма конференції та інформація про неї є на сайті організаторів конференції з ГО «Арніка» (Прага\, Чехія) «Чисте повітря для України» – спільна програма та  мережі місцевих неурядових організацій з різних регіонів в Україні\, працює з 2018 року. До цієї мережі входить і мережа “EcoCity” від ГО “Фрі-Ардуїно”\, з якою у ВНТУ за ініціативи кафедри САІТ у 2021 році підписано Меморандум про співпрацю. \n\n\n\nВ організації та проведенні конференції взяли участь й представники уряду Чехії та інших відомств. Від України були представлені громадські організації ГО “Фрі-Ардуїно” та провідні вчені закладів вищої освіти КНУ ім. Тараса Шевченка\, кафедри САІТ ФІІТА ВНТУ та ін. \n\n\n\nБуло цікаво прослухати доповіді. Прозвучало ряд цікавих та актуальних тем\, які будуть використані для досліджень наших аспірантів і студентів обох спеціальностей 124 і 126.
URL:http://sait.vntu.edu.ua/uk/event/%d0%b2%d1%87%d0%b5%d0%bd%d1%96-%d0%bd%d0%b4%d0%bb-%d0%b5%d0%b4%d0%b5%d0%bc-%d0%b2%d0%b7%d1%8f%d0%bb%d0%b8-%d1%83%d1%87%d0%b0%d1%81%d1%82%d1%8c-%d1%83-%d0%bc%d1%96%d0%b6%d0%bd%d0%b0%d1%80%d0%be%d0%b4/
END:VEVENT
END:VCALENDAR