BEGIN:VCALENDAR
VERSION:2.0
PRODID:-//Кафедра САІТ - ECPv6.6.2//NONSGML v1.0//EN
CALSCALE:GREGORIAN
METHOD:PUBLISH
X-ORIGINAL-URL:http://sait.vntu.edu.ua/uk
X-WR-CALDESC:Події для Кафедра САІТ
REFRESH-INTERVAL;VALUE=DURATION:PT1H
X-Robots-Tag:noindex
X-PUBLISHED-TTL:PT1H
BEGIN:VTIMEZONE
TZID:Europe/Kiev
BEGIN:DAYLIGHT
TZOFFSETFROM:+0200
TZOFFSETTO:+0300
TZNAME:EEST
DTSTART:20230326T010000
END:DAYLIGHT
BEGIN:STANDARD
TZOFFSETFROM:+0300
TZOFFSETTO:+0200
TZNAME:EET
DTSTART:20231029T010000
END:STANDARD
END:VTIMEZONE
BEGIN:VEVENT
DTSTART;TZID=Europe/Kiev:20230502T140000
DTEND;TZID=Europe/Kiev:20230502T160000
DTSTAMP:20260420T094956
CREATED:20230426T091910Z
LAST-MODIFIED:20230426T203008Z
UID:17977-1683036000-1683043200@sait.vntu.edu.ua
SUMMARY:VI Ідеатон "Системний аналіз ІТ-рішень"
DESCRIPTION:О 14.00 2 травня 2023 року на кафедрі системного аналізу та інформаційних технологій Факультету ІІТА ВНТУ пройде VI Ідеатон “Системний аналіз ІТ-рішень” за участі студентів 1 курсу бакалаврату кафедри САІТ освітніх програм “Системний аналіз” спеціальності 124 та “Прикладні інформаційні технології” спеціальності 126.  \n\n\n\nЗапрошуємо до участі членів журі – представники ІТ-роботодавців\, викладачі та випускники кафедри САІТ. Головою журі традиційно є ідеолог конкурсу – завідувач кафедри САІТ ВНТУ\,  д.т.н.\, професор\, Kaggle Grandmaster Віталій Мокін. \n\n\n\nКонкурс мав відбутись у грудні\, але\, через блек-аут\, був перенесений на весну. Формально\, це – “Ідеатон-2022”. \n\n\n\nДив. на сайті кафедри САІТ історію\, критерії\, вимоги і результати попередніх змагань 2016-2021 рр. зі списком переможців.
URL:http://sait.vntu.edu.ua/uk/event/vi-ideaton-systemnyi-analiz-it-rishen/
END:VEVENT
END:VCALENDAR